{"text_format":"1","workbook":"xlsx","n_sheets":13,"sheets":["Instructions","Add Providers","Add Staff","UserUploadFormat","AssignProvUploadFormat","DH_PSF","DH_UserUploadFormat","DH_PROVUPLOAD","HPMG_UPLOAD","PracticeUploadFormat","DataTables","PracticeTables","ClientSpecific"],"not_rendered":{"charts":0,"images":0,"macros":1,"external_links":1,"defined_names":25,"comments":0,"pivot_tables":0},"unopened":[],"bounds":{"document_bytes":16777216,"sheet_cells":100000,"rows_first":2000,"rows_last":500,"rows_between":2000,"halvings":0,"cell_chars":16384,"cell_head_chars":4096},"cells_cut":0,"cells_raw":0,"read":"whole","date_system":"1900"}

{"sheet":"Instructions","index":0,"n_rows":11,"n_cols":2,"rows_kept":11,"cut":false,"hidden":false,"merged":[]}
["Instructions for using the PSFX Request Form"]
[1,"Before entering data, save this form with a new name to your computer."]
[2,"This form contains macros.  If requested, select \"Enable Macros\".  Always save to an xlsm format with macros enabled."]
[3,"Use the \"Add Providers\" tab below for physicians and mid-level providers. Personal NPI required. 100 providers maximum per form."]
[4,"Use the \"Add Staff\" tab below for staff administrators and users.  100 staff maximum per form."]
[5,"Click one of the check boxes in Row 9 on the \"Add Providers\" tab page to let us know how to handle your request."]
[6,"Enter any special instructions or comments in the \"Additional Instructions\" field on the \"Add Providers\" tab page."]
[7,"Be sure to save the form before clicking submit, this will ensure all of your data is sent."]
[8,"If you are using Microsoft Outlook for your email client, the \"Submit\" button will open Outlook and a new email with the form attached and address fields filled."]
[9,"If you prefer to use a different email client, save the form to your computer, open your mail client and send the form as an attachment."]
[10,"You do not have the option to add more rows or columns."]

{"sheet":"Add Providers","index":1,"n_rows":11,"n_cols":11,"rows_kept":11,"cut":false,"hidden":false,"merged":[[2,1,2,10],[9,1,9,10],[8,2,8,10],[5,1,5,10]]}
[null,null,null,null,null,"Baptist Health - Cerner Provider Portal -  Practice and User Setup Request Form"]
[]
[null,"Practice Group Information"]
[null,"Practice Name","Practice Address","Practice Address2","City","State","Zip","Practice Administrator","Admin Phone","Admin Email","Admin Title"]
[]
[]
[]
[]
[null,"Additional Instructions:   "]
[null,"Physician and Mid-Level Providers"]
[null,"First Name","Middle Name","Last Name ","Credential","NPI","E-Mail","Requested Role","Area Code","Phone","(future use)"]

{"sheet":"Add Staff","index":2,"n_rows":2,"n_cols":9,"rows_kept":2,"cut":false,"hidden":false,"merged":[[0,1,0,8]]}
[null,"Practice Administrator and Staff User Accounts"]
[null,"First Name","Middle Name","Last Name","Email","Requested Role","Area Code","Phone","(future use)"]

{"sheet":"UserUploadFormat","index":3,"n_rows":195,"n_cols":11,"rows_kept":195,"cut":false,"hidden":true,"merged":[]}
["usernm","firstname","lastname","middlename","email","group","role","userExpiration","passwordExpiration","areaCode","PhoneNumber"]
[{"$f":"LOWER(CONCATENATE(LEFT(B2,1),C2))","v":"00"},{"$f":"'Add Providers'!B12","v":0},{"$f":"'Add Providers'!D12","v":0},{"$f":"'Add Providers'!C12","v":0},{"$f":"'Add Providers'!G12","v":0},null,{"$f":"'Add Providers'!H12","v":0},{"$f":"NOW()+365","v":"2022-08-18T14:17:27.920"},{"$f":"NOW()-1","v":"2021-08-17T14:17:27.920"},{"$f":"'Add Providers'!I12","v":0},{"$f":"'Add Providers'!J12","v":0}]
["00",{"$f":"'Add Providers'!B13","v":0},{"$f":"'Add Providers'!D13","v":0},{"$f":"'Add Providers'!C13","v":0},{"$f":"'Add Providers'!G13","v":0},null,{"$f":"'Add Staff'!F3","v":0},{"$f":"NOW()+365","v":"2022-08-18T14:17:27.920"},{"$f":"NOW()-1","v":"2021-08-17T14:17:27.920"},{"$f":"'Add Staff'!G3","v":0},{"$f":"'Add Staff'!H3","v":0}]
["00",{"$f":"'Add Providers'!B14","v":0},{"$f":"'Add Providers'!D14","v":0},{"$f":"'Add Providers'!C14","v":0},{"$f":"'Add Providers'!G14","v":0},null,{"$f":"'Add Staff'!F4","v":0},"2022-08-18T14:17:27.920","2021-08-17T14:17:27.920",{"$f":"'Add Staff'!G4","v":0},{"$f":"'Add Staff'!H4","v":0}]
["00",{"$f":"'Add Providers'!B15","v":0},{"$f":"'Add Providers'!D15","v":0},{"$f":"'Add Providers'!C15","v":0},{"$f":"'Add Providers'!G15","v":0},null,{"$f":"'Add Staff'!F5","v":0},"2022-08-18T14:17:27.920","2021-08-17T14:17:27.920",{"$f":"'Add Staff'!G5","v":0},{"$f":"'Add Staff'!H5","v":0}]
["00",{"$f":"'Add Providers'!B16","v":0},{"$f":"'Add Providers'!D16","v":0},{"$f":"'Add Providers'!C16","v":0},{"$f":"'Add Providers'!G16","v":0},null,{"$f":"'Add Staff'!F6","v":0},"2022-08-18T14:17:27.920","2021-08-17T14:17:27.920",{"$f":"'Add Staff'!G6","v":0},{"$f":"'Add Staff'!H6","v":0}]
["00",{"$f":"'Add Providers'!B17","v":0},{"$f":"'Add Providers'!D17","v":0},{"$f":"'Add Providers'!C17","v":0},{"$f":"'Add Providers'!G17","v":0},null,{"$f":"'Add Staff'!F7","v":0},"2022-08-18T14:17:27.920","2021-08-17T14:17:27.920",{"$f":"'Add Staff'!G7","v":0},{"$f":"'Add Staff'!H7","v":0}]
["00",{"$f":"'Add Providers'!B18","v":0},{"$f":"'Add Providers'!D18","v":0},{"$f":"'Add Providers'!C18","v":0},{"$f":"'Add Providers'!G18","v":0},null,{"$f":"'Add Staff'!F8","v":0},"2022-08-18T14:17:27.920","2021-08-17T14:17:27.920",{"$f":"'Add Staff'!G8","v":0},{"$f":"'Add Staff'!H8","v":0}]
["00",{"$f":"'Add Providers'!B19","v":0},{"$f":"'Add Providers'!D19","v":0},{"$f":"'Add Providers'!C19","v":0},{"$f":"'Add Providers'!G19","v":0},null,{"$f":"'Add Staff'!F9","v":0},"2022-08-18T14:17:27.920","2021-08-17T14:17:27.920",{"$f":"'Add Staff'!G9","v":0},{"$f":"'Add Staff'!H9","v":0}]
["00",{"$f":"'Add Providers'!B20","v":0},{"$f":"'Add Providers'!D20","v":0},{"$f":"'Add Providers'!C20","v":0},{"$f":"'Add Providers'!G20","v":0},null,{"$f":"'Add Staff'!F10","v":0},"2022-08-18T14:17:27.920","2021-08-17T14:17:27.920",{"$f":"'Add Staff'!G10","v":0},{"$f":"'Add Staff'!H10","v":0}]
["00",{"$f":"'Add Providers'!B21","v":0},{"$f":"'Add Providers'!D21","v":0},{"$f":"'Add Providers'!C21","v":0},{"$f":"'Add Providers'!G21","v":0},null,{"$f":"'Add Staff'!F11","v":0},"2022-08-18T14:17:27.920","2021-08-17T14:17:27.920",{"$f":"'Add Staff'!G11","v":0},{"$f":"'Add Staff'!H11","v":0}]
["00",{"$f":"'Add Providers'!B22","v":0},{"$f":"'Add Providers'!D22","v":0},{"$f":"'Add Providers'!C22","v":0},{"$f":"'Add Providers'!G22","v":0},null,{"$f":"'Add Staff'!F12","v":0},"2022-08-18T14:17:27.920","2021-08-17T14:17:27.920",{"$f":"'Add Staff'!G12","v":0},{"$f":"'Add Staff'!H12","v":0}]
["00",{"$f":"'Add Providers'!B23","v":0},{"$f":"'Add Providers'!D23","v":0},{"$f":"'Add Providers'!C23","v":0},{"$f":"'Add Providers'!G23","v":0},null,{"$f":"'Add Staff'!F13","v":0},"2022-08-18T14:17:27.920","2021-08-17T14:17:27.920",{"$f":"'Add Staff'!G13","v":0},{"$f":"'Add Staff'!H13","v":0}]
["00",{"$f":"'Add Providers'!B24","v":0},{"$f":"'Add Providers'!D24","v":0},{"$f":"'Add Providers'!C24","v":0},{"$f":"'Add Providers'!G24","v":0},null,{"$f":"'Add Staff'!F14","v":0},"2022-08-18T14:17:27.920","2021-08-17T14:17:27.920",{"$f":"'Add Staff'!G14","v":0},{"$f":"'Add Staff'!H14","v":0}]
["00",{"$f":"'Add Providers'!B25","v":0},{"$f":"'Add Providers'!D25","v":0},{"$f":"'Add Providers'!C25","v":0},{"$f":"'Add Providers'!G25","v":0},null,{"$f":"'Add Staff'!F15","v":0},"2022-08-18T14:17:27.920","2021-08-17T14:17:27.920",{"$f":"'Add Staff'!G15","v":0},{"$f":"'Add Staff'!H15","v":0}]
["00",{"$f":"'Add Providers'!B26","v":0},{"$f":"'Add Providers'!D26","v":0},{"$f":"'Add Providers'!C26","v":0},{"$f":"'Add Providers'!G26","v":0},null,{"$f":"'Add Staff'!F16","v":0},"2022-08-18T14:17:27.920","2021-08-17T14:17:27.920",{"$f":"'Add Staff'!G16","v":0},{"$f":"'Add Staff'!H16","v":0}]
["00",{"$f":"'Add Providers'!B27","v":0},{"$f":"'Add Providers'!D27","v":0},{"$f":"'Add Providers'!C27","v":0},{"$f":"'Add Providers'!G27","v":0},null,{"$f":"'Add Staff'!F17","v":0},"2022-08-18T14:17:27.920","2021-08-17T14:17:27.920",{"$f":"'Add Staff'!G17","v":0},{"$f":"'Add Staff'!H17","v":0}]
["00",{"$f":"'Add Providers'!B28","v":0},{"$f":"'Add Providers'!D28","v":0},{"$f":"'Add Providers'!C28","v":0},{"$f":"'Add Providers'!G28","v":0},null,{"$f":"'Add Staff'!F18","v":0},"2022-08-18T14:17:27.920","2021-08-17T14:17:27.920",{"$f":"'Add Staff'!G18","v":0},{"$f":"'Add Staff'!H18","v":0}]
["00",{"$f":"'Add Providers'!B29","v":0},{"$f":"'Add Providers'!D29","v":0},{"$f":"'Add Providers'!C29","v":0},{"$f":"'Add Providers'!G29","v":0},null,{"$f":"'Add Staff'!F19","v":0},"2022-08-18T14:17:27.920","2021-08-17T14:17:27.920",{"$f":"'Add Staff'!G19","v":0},{"$f":"'Add Staff'!H19","v":0}]
["00",{"$f":"'Add Providers'!B30","v":0},{"$f":"'Add Providers'!D30","v":0},{"$f":"'Add Providers'!C30","v":0},{"$f":"'Add Providers'!G30","v":0},null,{"$f":"'Add Staff'!F20","v":0},"2022-08-18T14:17:27.920","2021-08-17T14:17:27.920",{"$f":"'Add Staff'!G20","v":0},{"$f":"'Add Staff'!H20","v":0}]
["00",{"$f":"'Add Providers'!B31","v":0},{"$f":"'Add Providers'!D31","v":0},{"$f":"'Add Providers'!C31","v":0},{"$f":"'Add Providers'!G31","v":0},null,{"$f":"'Add Staff'!F21","v":0},"2022-08-18T14:17:27.920","2021-08-17T14:17:27.920",{"$f":"'Add Staff'!G21","v":0},{"$f":"'Add Staff'!H21","v":0}]
["00",{"$f":"'Add Providers'!B32","v":0},{"$f":"'Add Providers'!D32","v":0},{"$f":"'Add Providers'!C32","v":0},{"$f":"'Add Providers'!G32","v":0},null,{"$f":"'Add Staff'!F22","v":0},"2022-08-18T14:17:27.920","2021-08-17T14:17:27.920",{"$f":"'Add Staff'!G22","v":0},{"$f":"'Add Staff'!H22","v":0}]
["00",{"$f":"'Add Providers'!B33","v":0},{"$f":"'Add Providers'!D33","v":0},{"$f":"'Add Providers'!C33","v":0},{"$f":"'Add Providers'!G33","v":0},null,{"$f":"'Add Staff'!F23","v":0},"2022-08-18T14:17:27.920","2021-08-17T14:17:27.920",{"$f":"'Add Staff'!G23","v":0},{"$f":"'Add Staff'!H23","v":0}]
["00",{"$f":"'Add Providers'!B34","v":0},{"$f":"'Add Providers'!D34","v":0},{"$f":"'Add Providers'!C34","v":0},{"$f":"'Add Providers'!G34","v":0},null,{"$f":"'Add Staff'!F24","v":0},"2022-08-18T14:17:27.920","2021-08-17T14:17:27.920",{"$f":"'Add Staff'!G24","v":0},{"$f":"'Add Staff'!H24","v":0}]
["00",{"$f":"'Add Providers'!B35","v":0},{"$f":"'Add Providers'!D35","v":0},{"$f":"'Add Providers'!C35","v":0},{"$f":"'Add Providers'!G35","v":0},null,{"$f":"'Add Staff'!F25","v":0},"2022-08-18T14:17:27.920","2021-08-17T14:17:27.920",{"$f":"'Add Staff'!G25","v":0},{"$f":"'Add Staff'!H25","v":0}]
["00",{"$f":"'Add Providers'!B36","v":0},{"$f":"'Add Providers'!D36","v":0},{"$f":"'Add Providers'!C36","v":0},{"$f":"'Add Providers'!G36","v":0},null,{"$f":"'Add Staff'!F26","v":0},"2022-08-18T14:17:27.920","2021-08-17T14:17:27.920",{"$f":"'Add Staff'!G26","v":0},{"$f":"'Add Staff'!H26","v":0}]
["00",{"$f":"'Add Providers'!B37","v":0},{"$f":"'Add Providers'!D37","v":0},{"$f":"'Add Providers'!C37","v":0},{"$f":"'Add Providers'!G37","v":0},null,{"$f":"'Add Staff'!F27","v":0},"2022-08-18T14:17:27.920","2021-08-17T14:17:27.920",{"$f":"'Add Staff'!G27","v":0},{"$f":"'Add Staff'!H27","v":0}]
["00",{"$f":"'Add Providers'!B38","v":0},{"$f":"'Add Providers'!D38","v":0},{"$f":"'Add Providers'!C38","v":0},{"$f":"'Add Providers'!G38","v":0},null,{"$f":"'Add Staff'!F28","v":0},"2022-08-18T14:17:27.920","2021-08-17T14:17:27.920",{"$f":"'Add Staff'!G28","v":0},{"$f":"'Add Staff'!H28","v":0}]
["00",{"$f":"'Add Providers'!B39","v":0},{"$f":"'Add Providers'!D39","v":0},{"$f":"'Add Providers'!C39","v":0},{"$f":"'Add Providers'!G39","v":0},null,{"$f":"'Add Staff'!F29","v":0},"2022-08-18T14:17:27.920","2021-08-17T14:17:27.920",{"$f":"'Add Staff'!G29","v":0},{"$f":"'Add Staff'!H29","v":0}]
["00",{"$f":"'Add Providers'!B40","v":0},{"$f":"'Add Providers'!D40","v":0},{"$f":"'Add Providers'!C40","v":0},{"$f":"'Add Providers'!G40","v":0},null,{"$f":"'Add Staff'!F30","v":0},"2022-08-18T14:17:27.920","2021-08-17T14:17:27.920",{"$f":"'Add Staff'!G30","v":0},{"$f":"'Add Staff'!H30","v":0}]
["00",{"$f":"'Add Providers'!B41","v":0},{"$f":"'Add Providers'!D41","v":0},{"$f":"'Add Providers'!C41","v":0},{"$f":"'Add Providers'!G41","v":0},null,{"$f":"'Add Staff'!F31","v":0},"2022-08-18T14:17:27.920","2021-08-17T14:17:27.920",{"$f":"'Add Staff'!G31","v":0},{"$f":"'Add Staff'!H31","v":0}]
["00",{"$f":"'Add Providers'!B42","v":0},{"$f":"'Add Providers'!D42","v":0},{"$f":"'Add Providers'!C42","v":0},{"$f":"'Add Providers'!G42","v":0},null,{"$f":"'Add Staff'!F32","v":0},"2022-08-18T14:17:27.920","2021-08-17T14:17:27.920",{"$f":"'Add Staff'!G32","v":0},{"$f":"'Add Staff'!H32","v":0}]
["00",{"$f":"'Add Providers'!B43","v":0},{"$f":"'Add Providers'!D43","v":0},{"$f":"'Add Providers'!C43","v":0},{"$f":"'Add Providers'!G43","v":0},null,{"$f":"'Add Staff'!F33","v":0},"2022-08-18T14:17:27.920","2021-08-17T14:17:27.920",{"$f":"'Add Staff'!G33","v":0},{"$f":"'Add Staff'!H33","v":0}]
["00",{"$f":"'Add Providers'!B44","v":0},{"$f":"'Add Providers'!D44","v":0},{"$f":"'Add Providers'!C44","v":0},{"$f":"'Add Providers'!G44","v":0},null,{"$f":"'Add Staff'!F34","v":0},"2022-08-18T14:17:27.920","2021-08-17T14:17:27.920",{"$f":"'Add Staff'!G34","v":0},{"$f":"'Add Staff'!H34","v":0}]
["00",{"$f":"'Add Providers'!B45","v":0},{"$f":"'Add Providers'!D45","v":0},{"$f":"'Add Providers'!C45","v":0},{"$f":"'Add Providers'!G45","v":0},null,{"$f":"'Add Staff'!F35","v":0},"2022-08-18T14:17:27.920","2021-08-17T14:17:27.920",{"$f":"'Add Staff'!G35","v":0},{"$f":"'Add Staff'!H35","v":0}]
["00",{"$f":"'Add Providers'!B46","v":0},{"$f":"'Add Providers'!D46","v":0},{"$f":"'Add Providers'!C46","v":0},{"$f":"'Add Providers'!G46","v":0},null,{"$f":"'Add Staff'!F36","v":0},"2022-08-18T14:17:27.920","2021-08-17T14:17:27.920",{"$f":"'Add Staff'!G36","v":0},{"$f":"'Add Staff'!H36","v":0}]
["00",{"$f":"'Add Providers'!B47","v":0},{"$f":"'Add Providers'!D47","v":0},{"$f":"'Add Providers'!C47","v":0},{"$f":"'Add Providers'!G47","v":0},null,{"$f":"'Add Staff'!F37","v":0},"2022-08-18T14:17:27.920","2021-08-17T14:17:27.920",{"$f":"'Add Staff'!G37","v":0},{"$f":"'Add Staff'!H37","v":0}]
["00",{"$f":"'Add Providers'!B48","v":0},{"$f":"'Add Providers'!D48","v":0},{"$f":"'Add Providers'!C48","v":0},{"$f":"'Add Providers'!G48","v":0},null,{"$f":"'Add Staff'!F38","v":0},"2022-08-18T14:17:27.920","2021-08-17T14:17:27.920",{"$f":"'Add Staff'!G38","v":0},{"$f":"'Add Staff'!H38","v":0}]
["00",{"$f":"'Add Providers'!B49","v":0},{"$f":"'Add Providers'!D49","v":0},{"$f":"'Add Providers'!C49","v":0},{"$f":"'Add Providers'!G49","v":0},null,{"$f":"'Add Staff'!F39","v":0},"2022-08-18T14:17:27.920","2021-08-17T14:17:27.920",{"$f":"'Add Staff'!G39","v":0},{"$f":"'Add Staff'!H39","v":0}]
["00",{"$f":"'Add Providers'!B50","v":0},{"$f":"'Add Providers'!D50","v":0},{"$f":"'Add Providers'!C50","v":0},{"$f":"'Add Providers'!G50","v":0},null,{"$f":"'Add Staff'!F40","v":0},"2022-08-18T14:17:27.920","2021-08-17T14:17:27.920",{"$f":"'Add Staff'!G40","v":0},{"$f":"'Add Staff'!H40","v":0}]
["00",{"$f":"'Add Providers'!B51","v":0},{"$f":"'Add Providers'!D51","v":0},{"$f":"'Add Providers'!C51","v":0},{"$f":"'Add Providers'!G51","v":0},null,{"$f":"'Add Staff'!F41","v":0},"2022-08-18T14:17:27.920","2021-08-17T14:17:27.920",{"$f":"'Add Staff'!G41","v":0},{"$f":"'Add Staff'!H41","v":0}]
["00",{"$f":"'Add Providers'!B52","v":0},{"$f":"'Add Providers'!D52","v":0},{"$f":"'Add Providers'!C52","v":0},{"$f":"'Add Providers'!G52","v":0},null,{"$f":"'Add Staff'!F42","v":0},"2022-08-18T14:17:27.920","2021-08-17T14:17:27.920",{"$f":"'Add Staff'!G42","v":0},{"$f":"'Add Staff'!H42","v":0}]
["00",{"$f":"'Add Providers'!B53","v":0},{"$f":"'Add Providers'!D53","v":0},{"$f":"'Add Providers'!C53","v":0},{"$f":"'Add Providers'!G53","v":0},null,{"$f":"'Add Staff'!F43","v":0},"2022-08-18T14:17:27.920","2021-08-17T14:17:27.920",{"$f":"'Add Staff'!G43","v":0},{"$f":"'Add Staff'!H43","v":0}]
["00",{"$f":"'Add Providers'!B54","v":0},{"$f":"'Add Providers'!D54","v":0},{"$f":"'Add Providers'!C54","v":0},{"$f":"'Add Providers'!G54","v":0},null,{"$f":"'Add Staff'!F44","v":0},"2022-08-18T14:17:27.920","2021-08-17T14:17:27.920",{"$f":"'Add Staff'!G44","v":0},{"$f":"'Add Staff'!H44","v":0}]
["00",{"$f":"'Add Providers'!B55","v":0},{"$f":"'Add Providers'!D55","v":0},{"$f":"'Add Providers'!C55","v":0},{"$f":"'Add Providers'!G55","v":0},null,{"$f":"'Add Staff'!F45","v":0},"2022-08-18T14:17:27.920","2021-08-17T14:17:27.920",{"$f":"'Add Staff'!G45","v":0},{"$f":"'Add Staff'!H45","v":0}]
["00",{"$f":"'Add Providers'!B56","v":0},{"$f":"'Add Providers'!D56","v":0},{"$f":"'Add Providers'!C56","v":0},{"$f":"'Add Providers'!G56","v":0},null,{"$f":"'Add Staff'!F46","v":0},"2022-08-18T14:17:27.920","2021-08-17T14:17:27.920",{"$f":"'Add Staff'!G46","v":0},{"$f":"'Add Staff'!H46","v":0}]
["00",{"$f":"'Add Providers'!B57","v":0},{"$f":"'Add Providers'!D57","v":0},{"$f":"'Add Providers'!C57","v":0},{"$f":"'Add Providers'!G57","v":0},null,{"$f":"'Add Staff'!F47","v":0},"2022-08-18T14:17:27.920","2021-08-17T14:17:27.920",{"$f":"'Add Staff'!G47","v":0},{"$f":"'Add Staff'!H47","v":0}]
["00",{"$f":"'Add Providers'!B58","v":0},{"$f":"'Add Providers'!D58","v":0},{"$f":"'Add Providers'!C58","v":0},{"$f":"'Add Providers'!G58","v":0},null,{"$f":"'Add Staff'!F48","v":0},"2022-08-18T14:17:27.920","2021-08-17T14:17:27.920",{"$f":"'Add Staff'!G48","v":0},{"$f":"'Add Staff'!H48","v":0}]
["00",{"$f":"'Add Providers'!B59","v":0},{"$f":"'Add Providers'!D59","v":0},{"$f":"'Add Providers'!C59","v":0},{"$f":"'Add Providers'!G59","v":0},null,{"$f":"'Add Staff'!F49","v":0},"2022-08-18T14:17:27.920","2021-08-17T14:17:27.920",{"$f":"'Add Staff'!G49","v":0},{"$f":"'Add Staff'!H49","v":0}]
["00",{"$f":"'Add Providers'!B60","v":0},{"$f":"'Add Providers'!D60","v":0},{"$f":"'Add Providers'!C60","v":0},{"$f":"'Add Providers'!G60","v":0},null,{"$f":"'Add Staff'!F50","v":0},"2022-08-18T14:17:27.920","2021-08-17T14:17:27.920",{"$f":"'Add Staff'!G50","v":0},{"$f":"'Add Staff'!H50","v":0}]
["00",{"$f":"'Add Providers'!B61","v":0},{"$f":"'Add Providers'!D61","v":0},{"$f":"'Add Providers'!C61","v":0},{"$f":"'Add Providers'!G61","v":0},null,{"$f":"'Add Staff'!F51","v":0},"2022-08-18T14:17:27.920","2021-08-17T14:17:27.920",{"$f":"'Add Staff'!G51","v":0},{"$f":"'Add Staff'!H51","v":0}]
["00",{"$f":"'Add Providers'!B62","v":0},{"$f":"'Add Providers'!D62","v":0},{"$f":"'Add Providers'!C62","v":0},{"$f":"'Add Providers'!G62","v":0},null,{"$f":"'Add Staff'!F52","v":0},"2022-08-18T14:17:27.920","2021-08-17T14:17:27.920",{"$f":"'Add Staff'!G52","v":0},{"$f":"'Add Staff'!H52","v":0}]
["00",{"$f":"'Add Providers'!B63","v":0},{"$f":"'Add Providers'!D63","v":0},{"$f":"'Add Providers'!C63","v":0},{"$f":"'Add Providers'!G63","v":0},null,{"$f":"'Add Staff'!F53","v":0},"2022-08-18T14:17:27.920","2021-08-17T14:17:27.920",{"$f":"'Add Staff'!G53","v":0},{"$f":"'Add Staff'!H53","v":0}]
["00",{"$f":"'Add Providers'!B64","v":0},{"$f":"'Add Providers'!D64","v":0},{"$f":"'Add Providers'!C64","v":0},{"$f":"'Add Providers'!G64","v":0},null,{"$f":"'Add Staff'!F54","v":0},"2022-08-18T14:17:27.920","2021-08-17T14:17:27.920",{"$f":"'Add Staff'!G54","v":0},{"$f":"'Add Staff'!H54","v":0}]
["00",{"$f":"'Add Providers'!B65","v":0},{"$f":"'Add Providers'!D65","v":0},{"$f":"'Add Providers'!C65","v":0},{"$f":"'Add Providers'!G65","v":0},null,{"$f":"'Add Staff'!F55","v":0},"2022-08-18T14:17:27.920","2021-08-17T14:17:27.920",{"$f":"'Add Staff'!G55","v":0},{"$f":"'Add Staff'!H55","v":0}]
["00",{"$f":"'Add Providers'!B66","v":0},{"$f":"'Add Providers'!D66","v":0},{"$f":"'Add Providers'!C66","v":0},{"$f":"'Add Providers'!G66","v":0},null,{"$f":"'Add Staff'!F56","v":0},"2022-08-18T14:17:27.920","2021-08-17T14:17:27.920",{"$f":"'Add Staff'!G56","v":0},{"$f":"'Add Staff'!H56","v":0}]
["00",{"$f":"'Add Providers'!B67","v":0},{"$f":"'Add Providers'!D67","v":0},{"$f":"'Add Providers'!C67","v":0},{"$f":"'Add Providers'!G67","v":0},null,{"$f":"'Add Staff'!F57","v":0},"2022-08-18T14:17:27.920","2021-08-17T14:17:27.920",{"$f":"'Add Staff'!G57","v":0},{"$f":"'Add Staff'!H57","v":0}]
["00",{"$f":"'Add Providers'!B68","v":0},{"$f":"'Add Providers'!D68","v":0},{"$f":"'Add Providers'!C68","v":0},{"$f":"'Add Providers'!G68","v":0},null,{"$f":"'Add Staff'!F58","v":0},"2022-08-18T14:17:27.920","2021-08-17T14:17:27.920",{"$f":"'Add Staff'!G58","v":0},{"$f":"'Add Staff'!H58","v":0}]
["00",{"$f":"'Add Providers'!B69","v":0},{"$f":"'Add Providers'!D69","v":0},{"$f":"'Add Providers'!C69","v":0},{"$f":"'Add Providers'!G69","v":0},null,{"$f":"'Add Staff'!F59","v":0},"2022-08-18T14:17:27.920","2021-08-17T14:17:27.920",{"$f":"'Add Staff'!G59","v":0},{"$f":"'Add Staff'!H59","v":0}]
["00",{"$f":"'Add Providers'!B70","v":0},{"$f":"'Add Providers'!D70","v":0},{"$f":"'Add Providers'!C70","v":0},{"$f":"'Add Providers'!G70","v":0},null,{"$f":"'Add Staff'!F60","v":0},"2022-08-18T14:17:27.920","2021-08-17T14:17:27.920",{"$f":"'Add Staff'!G60","v":0},{"$f":"'Add Staff'!H60","v":0}]
["00",{"$f":"'Add Providers'!B71","v":0},{"$f":"'Add Providers'!D71","v":0},{"$f":"'Add Providers'!C71","v":0},{"$f":"'Add Providers'!G71","v":0},null,{"$f":"'Add Staff'!F61","v":0},"2022-08-18T14:17:27.920","2021-08-17T14:17:27.920",{"$f":"'Add Staff'!G61","v":0},{"$f":"'Add Staff'!H61","v":0}]
["00",{"$f":"'Add Providers'!B72","v":0},{"$f":"'Add Providers'!D72","v":0},{"$f":"'Add Providers'!C72","v":0},{"$f":"'Add Providers'!G72","v":0},null,{"$f":"'Add Staff'!F62","v":0},"2022-08-18T14:17:27.920","2021-08-17T14:17:27.920",{"$f":"'Add Staff'!G62","v":0},{"$f":"'Add Staff'!H62","v":0}]
["00",{"$f":"'Add Providers'!B73","v":0},{"$f":"'Add Providers'!D73","v":0},{"$f":"'Add Providers'!C73","v":0},{"$f":"'Add Providers'!G73","v":0},null,{"$f":"'Add Staff'!F63","v":0},"2022-08-18T14:17:27.920","2021-08-17T14:17:27.920",{"$f":"'Add Staff'!G63","v":0},{"$f":"'Add Staff'!H63","v":0}]
["00",{"$f":"'Add Providers'!B74","v":0},{"$f":"'Add Providers'!D74","v":0},{"$f":"'Add Providers'!C74","v":0},{"$f":"'Add Providers'!G74","v":0},null,{"$f":"'Add Staff'!F64","v":0},"2022-08-18T14:17:27.920","2021-08-17T14:17:27.920",{"$f":"'Add Staff'!G64","v":0},{"$f":"'Add Staff'!H64","v":0}]
["00",{"$f":"'Add Providers'!B75","v":0},{"$f":"'Add Providers'!D75","v":0},{"$f":"'Add Providers'!C75","v":0},{"$f":"'Add Providers'!G75","v":0},null,{"$f":"'Add Staff'!F65","v":0},"2022-08-18T14:17:27.920","2021-08-17T14:17:27.920",{"$f":"'Add Staff'!G65","v":0},{"$f":"'Add Staff'!H65","v":0}]
[{"$f":"LOWER(CONCATENATE(LEFT(B66,1),C66))","v":"00"},{"$f":"'Add Providers'!B76","v":0},{"$f":"'Add Providers'!D76","v":0},{"$f":"'Add Providers'!C76","v":0},{"$f":"'Add Providers'!G76","v":0},null,{"$f":"'Add Staff'!F66","v":0},"2022-08-18T14:17:27.920","2021-08-17T14:17:27.920",{"$f":"'Add Staff'!G66","v":0},{"$f":"'Add Staff'!H66","v":0}]
["00",{"$f":"'Add Providers'!B77","v":0},{"$f":"'Add Providers'!D77","v":0},{"$f":"'Add Providers'!C77","v":0},{"$f":"'Add Providers'!G77","v":0},null,{"$f":"'Add Staff'!F67","v":0},{"$f":"NOW()+365","v":"2022-08-18T14:17:27.920"},{"$f":"NOW()-1","v":"2021-08-17T14:17:27.920"},{"$f":"'Add Staff'!G67","v":0},{"$f":"'Add Staff'!H67","v":0}]
["00",{"$f":"'Add Providers'!B78","v":0},{"$f":"'Add Providers'!D78","v":0},{"$f":"'Add Providers'!C78","v":0},{"$f":"'Add Providers'!G78","v":0},null,{"$f":"'Add Staff'!F68","v":0},"2022-08-18T14:17:27.920","2021-08-17T14:17:27.920",{"$f":"'Add Staff'!G68","v":0},{"$f":"'Add Staff'!H68","v":0}]
["00",{"$f":"'Add Providers'!B79","v":0},{"$f":"'Add Providers'!D79","v":0},{"$f":"'Add Providers'!C79","v":0},{"$f":"'Add Providers'!G79","v":0},null,{"$f":"'Add Staff'!F69","v":0},"2022-08-18T14:17:27.920","2021-08-17T14:17:27.920",{"$f":"'Add Staff'!G69","v":0},{"$f":"'Add Staff'!H69","v":0}]
["00",{"$f":"'Add Providers'!B80","v":0},{"$f":"'Add Providers'!D80","v":0},{"$f":"'Add Providers'!C80","v":0},{"$f":"'Add Providers'!G80","v":0},null,{"$f":"'Add Staff'!F70","v":0},"2022-08-18T14:17:27.920","2021-08-17T14:17:27.920",{"$f":"'Add Staff'!G70","v":0},{"$f":"'Add Staff'!H70","v":0}]
["00",{"$f":"'Add Providers'!B81","v":0},{"$f":"'Add Providers'!D81","v":0},{"$f":"'Add Providers'!C81","v":0},{"$f":"'Add Providers'!G81","v":0},null,{"$f":"'Add Staff'!F71","v":0},"2022-08-18T14:17:27.920","2021-08-17T14:17:27.920",{"$f":"'Add Staff'!G71","v":0},{"$f":"'Add Staff'!H71","v":0}]
["00",{"$f":"'Add Providers'!B82","v":0},{"$f":"'Add Providers'!D82","v":0},{"$f":"'Add Providers'!C82","v":0},{"$f":"'Add Providers'!G82","v":0},null,{"$f":"'Add Staff'!F72","v":0},"2022-08-18T14:17:27.920","2021-08-17T14:17:27.920",{"$f":"'Add Staff'!G72","v":0},{"$f":"'Add Staff'!H72","v":0}]
["00",{"$f":"'Add Providers'!B83","v":0},{"$f":"'Add Providers'!D83","v":0},{"$f":"'Add Providers'!C83","v":0},{"$f":"'Add Providers'!G83","v":0},null,{"$f":"'Add Staff'!F73","v":0},"2022-08-18T14:17:27.920","2021-08-17T14:17:27.920",{"$f":"'Add Staff'!G73","v":0},{"$f":"'Add Staff'!H73","v":0}]
["00",{"$f":"'Add Providers'!B84","v":0},{"$f":"'Add Providers'!D84","v":0},{"$f":"'Add Providers'!C84","v":0},{"$f":"'Add Providers'!G84","v":0},null,{"$f":"'Add Staff'!F74","v":0},"2022-08-18T14:17:27.920","2021-08-17T14:17:27.920",{"$f":"'Add Staff'!G74","v":0},{"$f":"'Add Staff'!H74","v":0}]
["00",{"$f":"'Add Providers'!B85","v":0},{"$f":"'Add Providers'!D85","v":0},{"$f":"'Add Providers'!C85","v":0},{"$f":"'Add Providers'!G85","v":0},null,{"$f":"'Add Staff'!F75","v":0},"2022-08-18T14:17:27.920","2021-08-17T14:17:27.920",{"$f":"'Add Staff'!G75","v":0},{"$f":"'Add Staff'!H75","v":0}]
["00",{"$f":"'Add Providers'!B86","v":0},{"$f":"'Add Providers'!D86","v":0},{"$f":"'Add Providers'!C86","v":0},{"$f":"'Add Providers'!G86","v":0},null,{"$f":"'Add Staff'!F76","v":0},"2022-08-18T14:17:27.920","2021-08-17T14:17:27.920",{"$f":"'Add Staff'!G76","v":0},{"$f":"'Add Staff'!H76","v":0}]
["00",{"$f":"'Add Providers'!B87","v":0},{"$f":"'Add Providers'!D87","v":0},{"$f":"'Add Providers'!C87","v":0},{"$f":"'Add Providers'!G87","v":0},null,{"$f":"'Add Staff'!F77","v":0},"2022-08-18T14:17:27.920","2021-08-17T14:17:27.920",{"$f":"'Add Staff'!G77","v":0},{"$f":"'Add Staff'!H77","v":0}]
["00",{"$f":"'Add Providers'!B88","v":0},{"$f":"'Add Providers'!D88","v":0},{"$f":"'Add Providers'!C88","v":0},{"$f":"'Add Providers'!G88","v":0},null,{"$f":"'Add Staff'!F78","v":0},"2022-08-18T14:17:27.920","2021-08-17T14:17:27.920",{"$f":"'Add Staff'!G78","v":0},{"$f":"'Add Staff'!H78","v":0}]
["00",{"$f":"'Add Providers'!B89","v":0},{"$f":"'Add Providers'!D89","v":0},{"$f":"'Add Providers'!C89","v":0},{"$f":"'Add Providers'!G89","v":0},null,{"$f":"'Add Staff'!F79","v":0},"2022-08-18T14:17:27.920","2021-08-17T14:17:27.920",{"$f":"'Add Staff'!G79","v":0},{"$f":"'Add Staff'!H79","v":0}]
["00",{"$f":"'Add Providers'!B90","v":0},{"$f":"'Add Providers'!D90","v":0},{"$f":"'Add Providers'!C90","v":0},{"$f":"'Add Providers'!G90","v":0},null,{"$f":"'Add Staff'!F80","v":0},"2022-08-18T14:17:27.920","2021-08-17T14:17:27.920",{"$f":"'Add Staff'!G80","v":0},{"$f":"'Add Staff'!H80","v":0}]
["00",{"$f":"'Add Providers'!B91","v":0},{"$f":"'Add Providers'!D91","v":0},{"$f":"'Add Providers'!C91","v":0},{"$f":"'Add Providers'!G91","v":0},null,{"$f":"'Add Staff'!F81","v":0},"2022-08-18T14:17:27.920","2021-08-17T14:17:27.920",{"$f":"'Add Staff'!G81","v":0},{"$f":"'Add Staff'!H81","v":0}]
["00",{"$f":"'Add Providers'!B92","v":0},{"$f":"'Add Providers'!D92","v":0},{"$f":"'Add Providers'!C92","v":0},{"$f":"'Add Providers'!G92","v":0},null,{"$f":"'Add Staff'!F82","v":0},"2022-08-18T14:17:27.920","2021-08-17T14:17:27.920",{"$f":"'Add Staff'!G82","v":0},{"$f":"'Add Staff'!H82","v":0}]
["00",{"$f":"'Add Providers'!B93","v":0},{"$f":"'Add Providers'!D93","v":0},{"$f":"'Add Providers'!C93","v":0},{"$f":"'Add Providers'!G93","v":0},null,{"$f":"'Add Staff'!F83","v":0},"2022-08-18T14:17:27.920","2021-08-17T14:17:27.920",{"$f":"'Add Staff'!G83","v":0},{"$f":"'Add Staff'!H83","v":0}]
["00",{"$f":"'Add Providers'!B94","v":0},{"$f":"'Add Providers'!D94","v":0},{"$f":"'Add Providers'!C94","v":0},{"$f":"'Add Providers'!G94","v":0},null,{"$f":"'Add Staff'!F84","v":0},"2022-08-18T14:17:27.920","2021-08-17T14:17:27.920",{"$f":"'Add Staff'!G84","v":0},{"$f":"'Add Staff'!H84","v":0}]
["00",{"$f":"'Add Providers'!B95","v":0},{"$f":"'Add Providers'!D95","v":0},{"$f":"'Add Providers'!C95","v":0},{"$f":"'Add Providers'!G95","v":0},null,{"$f":"'Add Staff'!F85","v":0},"2022-08-18T14:17:27.920","2021-08-17T14:17:27.920",{"$f":"'Add Staff'!G85","v":0},{"$f":"'Add Staff'!H85","v":0}]
["00",{"$f":"'Add Providers'!B96","v":0},{"$f":"'Add Providers'!D96","v":0},{"$f":"'Add Providers'!C96","v":0},{"$f":"'Add Providers'!G96","v":0},null,{"$f":"'Add Staff'!F86","v":0},"2022-08-18T14:17:27.920","2021-08-17T14:17:27.920",{"$f":"'Add Staff'!G86","v":0},{"$f":"'Add Staff'!H86","v":0}]
["00",{"$f":"'Add Providers'!B97","v":0},{"$f":"'Add Providers'!D97","v":0},{"$f":"'Add Providers'!C97","v":0},{"$f":"'Add Providers'!G97","v":0},null,{"$f":"'Add Staff'!F87","v":0},"2022-08-18T14:17:27.920","2021-08-17T14:17:27.920",{"$f":"'Add Staff'!G87","v":0},{"$f":"'Add Staff'!H87","v":0}]
["00",{"$f":"'Add Providers'!B98","v":0},{"$f":"'Add Providers'!D98","v":0},{"$f":"'Add Providers'!C98","v":0},{"$f":"'Add Providers'!G98","v":0},null,{"$f":"'Add Staff'!F88","v":0},"2022-08-18T14:17:27.920","2021-08-17T14:17:27.920",{"$f":"'Add Staff'!G88","v":0},{"$f":"'Add Staff'!H88","v":0}]
["00",{"$f":"'Add Providers'!B99","v":0},{"$f":"'Add Providers'!D99","v":0},{"$f":"'Add Providers'!C99","v":0},{"$f":"'Add Providers'!G99","v":0},null,{"$f":"'Add Staff'!F89","v":0},"2022-08-18T14:17:27.920","2021-08-17T14:17:27.920",{"$f":"'Add Staff'!G89","v":0},{"$f":"'Add Staff'!H89","v":0}]
["00",{"$f":"'Add Providers'!B100","v":0},{"$f":"'Add Providers'!D100","v":0},{"$f":"'Add Providers'!C100","v":0},{"$f":"'Add Providers'!G100","v":0},null,{"$f":"'Add Staff'!F90","v":0},"2022-08-18T14:17:27.920","2021-08-17T14:17:27.920",{"$f":"'Add Staff'!G90","v":0},{"$f":"'Add Staff'!H90","v":0}]
["00",{"$f":"'Add Providers'!B101","v":0},{"$f":"'Add Providers'!D101","v":0},{"$f":"'Add Providers'!C101","v":0},{"$f":"'Add Providers'!G101","v":0},null,{"$f":"'Add Staff'!F91","v":0},"2022-08-18T14:17:27.920","2021-08-17T14:17:27.920",{"$f":"'Add Staff'!G91","v":0},{"$f":"'Add Staff'!H91","v":0}]
["00",{"$f":"'Add Providers'!B102","v":0},{"$f":"'Add Providers'!D102","v":0},{"$f":"'Add Providers'!C102","v":0},{"$f":"'Add Providers'!G102","v":0},null,{"$f":"'Add Staff'!F92","v":0},"2022-08-18T14:17:27.920","2021-08-17T14:17:27.920",{"$f":"'Add Staff'!G92","v":0},{"$f":"'Add Staff'!H92","v":0}]
["00",{"$f":"'Add Staff'!B3","v":0},{"$f":"'Add Staff'!D3","v":0},{"$f":"'Add Staff'!C3","v":0},{"$f":"'Add Staff'!E3","v":0},null,{"$f":"'Add Staff'!F3","v":0},"2022-08-18T14:17:27.920","2021-08-17T14:17:27.920",{"$f":"'Add Staff'!G3","v":0},{"$f":"'Add Staff'!H3","v":0}]
["00",{"$f":"'Add Staff'!B4","v":0},{"$f":"'Add Staff'!D4","v":0},{"$f":"'Add Staff'!C4","v":0},{"$f":"'Add Staff'!E4","v":0},null,{"$f":"'Add Staff'!F4","v":0},"2022-08-18T14:17:27.920","2021-08-17T14:17:27.920",{"$f":"'Add Staff'!G4","v":0},{"$f":"'Add Staff'!H4","v":0}]
["00",{"$f":"'Add Staff'!B5","v":0},{"$f":"'Add Staff'!D5","v":0},{"$f":"'Add Staff'!C5","v":0},{"$f":"'Add Staff'!E5","v":0},null,{"$f":"'Add Staff'!F5","v":0},"2022-08-18T14:17:27.920","2021-08-17T14:17:27.920",{"$f":"'Add Staff'!G5","v":0},{"$f":"'Add Staff'!H5","v":0}]
["00",{"$f":"'Add Staff'!B6","v":0},{"$f":"'Add Staff'!D6","v":0},{"$f":"'Add Staff'!C6","v":0},{"$f":"'Add Staff'!E6","v":0},null,{"$f":"'Add Staff'!F6","v":0},"2022-08-18T14:17:27.920","2021-08-17T14:17:27.920",{"$f":"'Add Staff'!G6","v":0},{"$f":"'Add Staff'!H6","v":0}]
["00",{"$f":"'Add Staff'!B7","v":0},{"$f":"'Add Staff'!D7","v":0},{"$f":"'Add Staff'!C7","v":0},{"$f":"'Add Staff'!E7","v":0},null,{"$f":"'Add Staff'!F7","v":0},"2022-08-18T14:17:27.920","2021-08-17T14:17:27.920",{"$f":"'Add Staff'!G7","v":0},{"$f":"'Add Staff'!H7","v":0}]
["00",{"$f":"'Add Staff'!B8","v":0},{"$f":"'Add Staff'!D8","v":0},{"$f":"'Add Staff'!C8","v":0},{"$f":"'Add Staff'!E8","v":0},null,{"$f":"'Add Staff'!F8","v":0},"2022-08-18T14:17:27.920","2021-08-17T14:17:27.920",{"$f":"'Add Staff'!G8","v":0},{"$f":"'Add Staff'!H8","v":0}]
["00",{"$f":"'Add Staff'!B9","v":0},{"$f":"'Add Staff'!D9","v":0},{"$f":"'Add Staff'!C9","v":0},{"$f":"'Add Staff'!E9","v":0},null,{"$f":"'Add Staff'!F9","v":0},"2022-08-18T14:17:27.920","2021-08-17T14:17:27.920",{"$f":"'Add Staff'!G9","v":0},{"$f":"'Add Staff'!H9","v":0}]
["00",{"$f":"'Add Staff'!B10","v":0},{"$f":"'Add Staff'!D10","v":0},{"$f":"'Add Staff'!C10","v":0},{"$f":"'Add Staff'!E10","v":0},null,{"$f":"'Add Staff'!F10","v":0},"2022-08-18T14:17:27.920","2021-08-17T14:17:27.920",{"$f":"'Add Staff'!G10","v":0},{"$f":"'Add Staff'!H10","v":0}]
["00",{"$f":"'Add Staff'!B11","v":0},{"$f":"'Add Staff'!D11","v":0},{"$f":"'Add Staff'!C11","v":0},{"$f":"'Add Staff'!E11","v":0},null,{"$f":"'Add Staff'!F11","v":0},"2022-08-18T14:17:27.920","2021-08-17T14:17:27.920",{"$f":"'Add Staff'!G11","v":0},{"$f":"'Add Staff'!H11","v":0}]
["00",{"$f":"'Add Staff'!B12","v":0},{"$f":"'Add Staff'!D12","v":0},{"$f":"'Add Staff'!C12","v":0},{"$f":"'Add Staff'!E12","v":0},null,{"$f":"'Add Staff'!F12","v":0},"2022-08-18T14:17:27.920","2021-08-17T14:17:27.920",{"$f":"'Add Staff'!G12","v":0},{"$f":"'Add Staff'!H12","v":0}]
["00",{"$f":"'Add Staff'!B13","v":0},{"$f":"'Add Staff'!D13","v":0},{"$f":"'Add Staff'!C13","v":0},{"$f":"'Add Staff'!E13","v":0},null,{"$f":"'Add Staff'!F13","v":0},"2022-08-18T14:17:27.920","2021-08-17T14:17:27.920",{"$f":"'Add Staff'!G13","v":0},{"$f":"'Add Staff'!H13","v":0}]
["00",{"$f":"'Add Staff'!B14","v":0},{"$f":"'Add Staff'!D14","v":0},{"$f":"'Add Staff'!C14","v":0},{"$f":"'Add Staff'!E14","v":0},null,{"$f":"'Add Staff'!F14","v":0},"2022-08-18T14:17:27.920","2021-08-17T14:17:27.920",{"$f":"'Add Staff'!G14","v":0},{"$f":"'Add Staff'!H14","v":0}]
["00",{"$f":"'Add Staff'!B15","v":0},{"$f":"'Add Staff'!D15","v":0},{"$f":"'Add Staff'!C15","v":0},{"$f":"'Add Staff'!E15","v":0},null,{"$f":"'Add Staff'!F15","v":0},"2022-08-18T14:17:27.920","2021-08-17T14:17:27.920",{"$f":"'Add Staff'!G15","v":0},{"$f":"'Add Staff'!H15","v":0}]
["00",{"$f":"'Add Staff'!B16","v":0},{"$f":"'Add Staff'!D16","v":0},{"$f":"'Add Staff'!C16","v":0},{"$f":"'Add Staff'!E16","v":0},null,{"$f":"'Add Staff'!F16","v":0},"2022-08-18T14:17:27.920","2021-08-17T14:17:27.920",{"$f":"'Add Staff'!G16","v":0},{"$f":"'Add Staff'!H16","v":0}]
["00",{"$f":"'Add Staff'!B17","v":0},{"$f":"'Add Staff'!D17","v":0},{"$f":"'Add Staff'!C17","v":0},{"$f":"'Add Staff'!E17","v":0},null,{"$f":"'Add Staff'!F17","v":0},"2022-08-18T14:17:27.920","2021-08-17T14:17:27.920",{"$f":"'Add Staff'!G17","v":0},{"$f":"'Add Staff'!H17","v":0}]
["00",{"$f":"'Add Staff'!B18","v":0},{"$f":"'Add Staff'!D18","v":0},{"$f":"'Add Staff'!C18","v":0},{"$f":"'Add Staff'!E18","v":0},null,{"$f":"'Add Staff'!F18","v":0},"2022-08-18T14:17:27.920","2021-08-17T14:17:27.920",{"$f":"'Add Staff'!G18","v":0},{"$f":"'Add Staff'!H18","v":0}]
["00",{"$f":"'Add Staff'!B19","v":0},{"$f":"'Add Staff'!D19","v":0},{"$f":"'Add Staff'!C19","v":0},{"$f":"'Add Staff'!E19","v":0},null,{"$f":"'Add Staff'!F19","v":0},"2022-08-18T14:17:27.920","2021-08-17T14:17:27.920",{"$f":"'Add Staff'!G19","v":0},{"$f":"'Add Staff'!H19","v":0}]
["00",{"$f":"'Add Staff'!B20","v":0},{"$f":"'Add Staff'!D20","v":0},{"$f":"'Add Staff'!C20","v":0},{"$f":"'Add Staff'!E20","v":0},null,{"$f":"'Add Staff'!F20","v":0},"2022-08-18T14:17:27.920","2021-08-17T14:17:27.920",{"$f":"'Add Staff'!G20","v":0},{"$f":"'Add Staff'!H20","v":0}]
["00",{"$f":"'Add Staff'!B21","v":0},{"$f":"'Add Staff'!D21","v":0},{"$f":"'Add Staff'!C21","v":0},{"$f":"'Add Staff'!E21","v":0},null,{"$f":"'Add Staff'!F21","v":0},"2022-08-18T14:17:27.920","2021-08-17T14:17:27.920",{"$f":"'Add Staff'!G21","v":0},{"$f":"'Add Staff'!H21","v":0}]
["00",{"$f":"'Add Staff'!B22","v":0},{"$f":"'Add Staff'!D22","v":0},{"$f":"'Add Staff'!C22","v":0},{"$f":"'Add Staff'!E22","v":0},null,{"$f":"'Add Staff'!F22","v":0},"2022-08-18T14:17:27.920","2021-08-17T14:17:27.920",{"$f":"'Add Staff'!G22","v":0},{"$f":"'Add Staff'!H22","v":0}]
["00",{"$f":"'Add Staff'!B23","v":0},{"$f":"'Add Staff'!D23","v":0},{"$f":"'Add Staff'!C23","v":0},{"$f":"'Add Staff'!E23","v":0},null,{"$f":"'Add Staff'!F23","v":0},"2022-08-18T14:17:27.920","2021-08-17T14:17:27.920",{"$f":"'Add Staff'!G23","v":0},{"$f":"'Add Staff'!H23","v":0}]
["00",{"$f":"'Add Staff'!B24","v":0},{"$f":"'Add Staff'!D24","v":0},{"$f":"'Add Staff'!C24","v":0},{"$f":"'Add Staff'!E24","v":0},null,{"$f":"'Add Staff'!F24","v":0},"2022-08-18T14:17:27.920","2021-08-17T14:17:27.920",{"$f":"'Add Staff'!G24","v":0},{"$f":"'Add Staff'!H24","v":0}]
["00",{"$f":"'Add Staff'!B25","v":0},{"$f":"'Add Staff'!D25","v":0},{"$f":"'Add Staff'!C25","v":0},{"$f":"'Add Staff'!E25","v":0},null,{"$f":"'Add Staff'!F25","v":0},"2022-08-18T14:17:27.920","2021-08-17T14:17:27.920",{"$f":"'Add Staff'!G25","v":0},{"$f":"'Add Staff'!H25","v":0}]
["00",{"$f":"'Add Staff'!B26","v":0},{"$f":"'Add Staff'!D26","v":0},{"$f":"'Add Staff'!C26","v":0},{"$f":"'Add Staff'!E26","v":0},null,{"$f":"'Add Staff'!F26","v":0},"2022-08-18T14:17:27.920","2021-08-17T14:17:27.920",{"$f":"'Add Staff'!G26","v":0},{"$f":"'Add Staff'!H26","v":0}]
["00",{"$f":"'Add Staff'!B27","v":0},{"$f":"'Add Staff'!D27","v":0},{"$f":"'Add Staff'!C27","v":0},{"$f":"'Add Staff'!E27","v":0},null,{"$f":"'Add Staff'!F27","v":0},"2022-08-18T14:17:27.920","2021-08-17T14:17:27.920",{"$f":"'Add Staff'!G27","v":0},{"$f":"'Add Staff'!H27","v":0}]
["00",{"$f":"'Add Staff'!B28","v":0},{"$f":"'Add Staff'!D28","v":0},{"$f":"'Add Staff'!C28","v":0},{"$f":"'Add Staff'!E28","v":0},null,{"$f":"'Add Staff'!F28","v":0},"2022-08-18T14:17:27.920","2021-08-17T14:17:27.920",{"$f":"'Add Staff'!G28","v":0},{"$f":"'Add Staff'!H28","v":0}]
["00",{"$f":"'Add Staff'!B29","v":0},{"$f":"'Add Staff'!D29","v":0},{"$f":"'Add Staff'!C29","v":0},{"$f":"'Add Staff'!E29","v":0},null,{"$f":"'Add Staff'!F29","v":0},"2022-08-18T14:17:27.920","2021-08-17T14:17:27.920",{"$f":"'Add Staff'!G29","v":0},{"$f":"'Add Staff'!H29","v":0}]
["00",{"$f":"'Add Staff'!B30","v":0},{"$f":"'Add Staff'!D30","v":0},{"$f":"'Add Staff'!C30","v":0},{"$f":"'Add Staff'!E30","v":0},null,{"$f":"'Add Staff'!F30","v":0},"2022-08-18T14:17:27.920","2021-08-17T14:17:27.920",{"$f":"'Add Staff'!G30","v":0},{"$f":"'Add Staff'!H30","v":0}]
["00",{"$f":"'Add Staff'!B31","v":0},{"$f":"'Add Staff'!D31","v":0},{"$f":"'Add Staff'!C31","v":0},{"$f":"'Add Staff'!E31","v":0},null,{"$f":"'Add Staff'!F31","v":0},"2022-08-18T14:17:27.920","2021-08-17T14:17:27.920",{"$f":"'Add Staff'!G31","v":0},{"$f":"'Add Staff'!H31","v":0}]
["00",{"$f":"'Add Staff'!B32","v":0},{"$f":"'Add Staff'!D32","v":0},{"$f":"'Add Staff'!C32","v":0},{"$f":"'Add Staff'!E32","v":0},null,{"$f":"'Add Staff'!F32","v":0},"2022-08-18T14:17:27.920","2021-08-17T14:17:27.920",{"$f":"'Add Staff'!G32","v":0},{"$f":"'Add Staff'!H32","v":0}]
["00",{"$f":"'Add Staff'!B33","v":0},{"$f":"'Add Staff'!D33","v":0},{"$f":"'Add Staff'!C33","v":0},{"$f":"'Add Staff'!E33","v":0},null,{"$f":"'Add Staff'!F33","v":0},"2022-08-18T14:17:27.920","2021-08-17T14:17:27.920",{"$f":"'Add Staff'!G33","v":0},{"$f":"'Add Staff'!H33","v":0}]
["00",{"$f":"'Add Staff'!B34","v":0},{"$f":"'Add Staff'!D34","v":0},{"$f":"'Add Staff'!C34","v":0},{"$f":"'Add Staff'!E34","v":0},null,{"$f":"'Add Staff'!F34","v":0},"2022-08-18T14:17:27.920","2021-08-17T14:17:27.920",{"$f":"'Add Staff'!G34","v":0},{"$f":"'Add Staff'!H34","v":0}]
["00",{"$f":"'Add Staff'!B35","v":0},{"$f":"'Add Staff'!D35","v":0},{"$f":"'Add Staff'!C35","v":0},{"$f":"'Add Staff'!E35","v":0},null,{"$f":"'Add Staff'!F35","v":0},"2022-08-18T14:17:27.920","2021-08-17T14:17:27.920",{"$f":"'Add Staff'!G35","v":0},{"$f":"'Add Staff'!H35","v":0}]
["00",{"$f":"'Add Staff'!B36","v":0},{"$f":"'Add Staff'!D36","v":0},{"$f":"'Add Staff'!C36","v":0},{"$f":"'Add Staff'!E36","v":0},null,{"$f":"'Add Staff'!F36","v":0},"2022-08-18T14:17:27.920","2021-08-17T14:17:27.920",{"$f":"'Add Staff'!G36","v":0},{"$f":"'Add Staff'!H36","v":0}]
["00",{"$f":"'Add Staff'!B37","v":0},{"$f":"'Add Staff'!D37","v":0},{"$f":"'Add Staff'!C37","v":0},{"$f":"'Add Staff'!E37","v":0},null,{"$f":"'Add Staff'!F37","v":0},"2022-08-18T14:17:27.920","2021-08-17T14:17:27.920",{"$f":"'Add Staff'!G37","v":0},{"$f":"'Add Staff'!H37","v":0}]
["00",{"$f":"'Add Staff'!B38","v":0},{"$f":"'Add Staff'!D38","v":0},{"$f":"'Add Staff'!C38","v":0},{"$f":"'Add Staff'!E38","v":0},null,{"$f":"'Add Staff'!F38","v":0},"2022-08-18T14:17:27.920","2021-08-17T14:17:27.920",{"$f":"'Add Staff'!G38","v":0},{"$f":"'Add Staff'!H38","v":0}]
[{"$f":"LOWER(CONCATENATE(LEFT(B129,1),C129))","v":"00"},{"$f":"'Add Staff'!B39","v":0},{"$f":"'Add Staff'!D39","v":0},{"$f":"'Add Staff'!C39","v":0},{"$f":"'Add Staff'!E39","v":0},null,{"$f":"'Add Staff'!F39","v":0},"2022-08-18T14:17:27.920","2021-08-17T14:17:27.920",{"$f":"'Add Staff'!G39","v":0},{"$f":"'Add Staff'!H39","v":0}]
["00",{"$f":"'Add Staff'!B40","v":0},{"$f":"'Add Staff'!D40","v":0},{"$f":"'Add Staff'!C40","v":0},{"$f":"'Add Staff'!E40","v":0},null,{"$f":"'Add Staff'!F40","v":0},{"$f":"NOW()+365","v":"2022-08-18T14:17:27.920"},{"$f":"NOW()-1","v":"2021-08-17T14:17:27.920"},{"$f":"'Add Staff'!G40","v":0},{"$f":"'Add Staff'!H40","v":0}]
["00",{"$f":"'Add Staff'!B41","v":0},{"$f":"'Add Staff'!D41","v":0},{"$f":"'Add Staff'!C41","v":0},{"$f":"'Add Staff'!E41","v":0},null,{"$f":"'Add Staff'!F41","v":0},"2022-08-18T14:17:27.920","2021-08-17T14:17:27.920",{"$f":"'Add Staff'!G41","v":0},{"$f":"'Add Staff'!H41","v":0}]
["00",{"$f":"'Add Staff'!B42","v":0},{"$f":"'Add Staff'!D42","v":0},{"$f":"'Add Staff'!C42","v":0},{"$f":"'Add Staff'!E42","v":0},null,{"$f":"'Add Staff'!F42","v":0},"2022-08-18T14:17:27.920","2021-08-17T14:17:27.920",{"$f":"'Add Staff'!G42","v":0},{"$f":"'Add Staff'!H42","v":0}]
["00",{"$f":"'Add Staff'!B43","v":0},{"$f":"'Add Staff'!D43","v":0},{"$f":"'Add Staff'!C43","v":0},{"$f":"'Add Staff'!E43","v":0},null,{"$f":"'Add Staff'!F43","v":0},"2022-08-18T14:17:27.920","2021-08-17T14:17:27.920",{"$f":"'Add Staff'!G43","v":0},{"$f":"'Add Staff'!H43","v":0}]
["00",{"$f":"'Add Staff'!B44","v":0},{"$f":"'Add Staff'!D44","v":0},{"$f":"'Add Staff'!C44","v":0},{"$f":"'Add Staff'!E44","v":0},null,{"$f":"'Add Staff'!F44","v":0},"2022-08-18T14:17:27.920","2021-08-17T14:17:27.920",{"$f":"'Add Staff'!G44","v":0},{"$f":"'Add Staff'!H44","v":0}]
["00",{"$f":"'Add Staff'!B45","v":0},{"$f":"'Add Staff'!D45","v":0},{"$f":"'Add Staff'!C45","v":0},{"$f":"'Add Staff'!E45","v":0},null,{"$f":"'Add Staff'!F45","v":0},"2022-08-18T14:17:27.920","2021-08-17T14:17:27.920",{"$f":"'Add Staff'!G45","v":0},{"$f":"'Add Staff'!H45","v":0}]
["00",{"$f":"'Add Staff'!B46","v":0},{"$f":"'Add Staff'!D46","v":0},{"$f":"'Add Staff'!C46","v":0},{"$f":"'Add Staff'!E46","v":0},null,{"$f":"'Add Staff'!F46","v":0},"2022-08-18T14:17:27.920","2021-08-17T14:17:27.920",{"$f":"'Add Staff'!G46","v":0},{"$f":"'Add Staff'!H46","v":0}]
["00",{"$f":"'Add Staff'!B47","v":0},{"$f":"'Add Staff'!D47","v":0},{"$f":"'Add Staff'!C47","v":0},{"$f":"'Add Staff'!E47","v":0},null,{"$f":"'Add Staff'!F47","v":0},"2022-08-18T14:17:27.920","2021-08-17T14:17:27.920",{"$f":"'Add Staff'!G47","v":0},{"$f":"'Add Staff'!H47","v":0}]
["00",{"$f":"'Add Staff'!B48","v":0},{"$f":"'Add Staff'!D48","v":0},{"$f":"'Add Staff'!C48","v":0},{"$f":"'Add Staff'!E48","v":0},null,{"$f":"'Add Staff'!F48","v":0},"2022-08-18T14:17:27.920","2021-08-17T14:17:27.920",{"$f":"'Add Staff'!G48","v":0},{"$f":"'Add Staff'!H48","v":0}]
["00",{"$f":"'Add Staff'!B49","v":0},{"$f":"'Add Staff'!D49","v":0},{"$f":"'Add Staff'!C49","v":0},{"$f":"'Add Staff'!E49","v":0},null,{"$f":"'Add Staff'!F49","v":0},"2022-08-18T14:17:27.920","2021-08-17T14:17:27.920",{"$f":"'Add Staff'!G49","v":0},{"$f":"'Add Staff'!H49","v":0}]
["00",{"$f":"'Add Staff'!B50","v":0},{"$f":"'Add Staff'!D50","v":0},{"$f":"'Add Staff'!C50","v":0},{"$f":"'Add Staff'!E50","v":0},null,{"$f":"'Add Staff'!F50","v":0},"2022-08-18T14:17:27.920","2021-08-17T14:17:27.920",{"$f":"'Add Staff'!G50","v":0},{"$f":"'Add Staff'!H50","v":0}]
["00",{"$f":"'Add Staff'!B51","v":0},{"$f":"'Add Staff'!D51","v":0},{"$f":"'Add Staff'!C51","v":0},{"$f":"'Add Staff'!E51","v":0},null,{"$f":"'Add Staff'!F51","v":0},"2022-08-18T14:17:27.920","2021-08-17T14:17:27.920",{"$f":"'Add Staff'!G51","v":0},{"$f":"'Add Staff'!H51","v":0}]
["00",{"$f":"'Add Staff'!B52","v":0},{"$f":"'Add Staff'!D52","v":0},{"$f":"'Add Staff'!C52","v":0},{"$f":"'Add Staff'!E52","v":0},null,{"$f":"'Add Staff'!F52","v":0},"2022-08-18T14:17:27.920","2021-08-17T14:17:27.920",{"$f":"'Add Staff'!G52","v":0},{"$f":"'Add Staff'!H52","v":0}]
["00",{"$f":"'Add Staff'!B53","v":0},{"$f":"'Add Staff'!D53","v":0},{"$f":"'Add Staff'!C53","v":0},{"$f":"'Add Staff'!E53","v":0},null,{"$f":"'Add Staff'!F53","v":0},"2022-08-18T14:17:27.920","2021-08-17T14:17:27.920",{"$f":"'Add Staff'!G53","v":0},{"$f":"'Add Staff'!H53","v":0}]
["00",{"$f":"'Add Staff'!B54","v":0},{"$f":"'Add Staff'!D54","v":0},{"$f":"'Add Staff'!C54","v":0},{"$f":"'Add Staff'!E54","v":0},null,{"$f":"'Add Staff'!F54","v":0},"2022-08-18T14:17:27.920","2021-08-17T14:17:27.920",{"$f":"'Add Staff'!G54","v":0},{"$f":"'Add Staff'!H54","v":0}]
["00",{"$f":"'Add Staff'!B55","v":0},{"$f":"'Add Staff'!D55","v":0},{"$f":"'Add Staff'!C55","v":0},{"$f":"'Add Staff'!E55","v":0},null,{"$f":"'Add Staff'!F55","v":0},"2022-08-18T14:17:27.920","2021-08-17T14:17:27.920",{"$f":"'Add Staff'!G55","v":0},{"$f":"'Add Staff'!H55","v":0}]
["00",{"$f":"'Add Staff'!B56","v":0},{"$f":"'Add Staff'!D56","v":0},{"$f":"'Add Staff'!C56","v":0},{"$f":"'Add Staff'!E56","v":0},null,{"$f":"'Add Staff'!F56","v":0},"2022-08-18T14:17:27.920","2021-08-17T14:17:27.920",{"$f":"'Add Staff'!G56","v":0},{"$f":"'Add Staff'!H56","v":0}]
["00",{"$f":"'Add Staff'!B57","v":0},{"$f":"'Add Staff'!D57","v":0},{"$f":"'Add Staff'!C57","v":0},{"$f":"'Add Staff'!E57","v":0},null,{"$f":"'Add Staff'!F57","v":0},"2022-08-18T14:17:27.920","2021-08-17T14:17:27.920",{"$f":"'Add Staff'!G57","v":0},{"$f":"'Add Staff'!H57","v":0}]
["00",{"$f":"'Add Staff'!B58","v":0},{"$f":"'Add Staff'!D58","v":0},{"$f":"'Add Staff'!C58","v":0},{"$f":"'Add Staff'!E58","v":0},null,{"$f":"'Add Staff'!F58","v":0},"2022-08-18T14:17:27.920","2021-08-17T14:17:27.920",{"$f":"'Add Staff'!G58","v":0},{"$f":"'Add Staff'!H58","v":0}]
["00",{"$f":"'Add Staff'!B59","v":0},{"$f":"'Add Staff'!D59","v":0},{"$f":"'Add Staff'!C59","v":0},{"$f":"'Add Staff'!E59","v":0},null,{"$f":"'Add Staff'!F59","v":0},"2022-08-18T14:17:27.920","2021-08-17T14:17:27.920",{"$f":"'Add Staff'!G59","v":0},{"$f":"'Add Staff'!H59","v":0}]
["00",{"$f":"'Add Staff'!B60","v":0},{"$f":"'Add Staff'!D60","v":0},{"$f":"'Add Staff'!C60","v":0},{"$f":"'Add Staff'!E60","v":0},null,{"$f":"'Add Staff'!F60","v":0},"2022-08-18T14:17:27.920","2021-08-17T14:17:27.920",{"$f":"'Add Staff'!G60","v":0},{"$f":"'Add Staff'!H60","v":0}]
["00",{"$f":"'Add Staff'!B61","v":0},{"$f":"'Add Staff'!D61","v":0},{"$f":"'Add Staff'!C61","v":0},{"$f":"'Add Staff'!E61","v":0},null,{"$f":"'Add Staff'!F61","v":0},"2022-08-18T14:17:27.920","2021-08-17T14:17:27.920",{"$f":"'Add Staff'!G61","v":0},{"$f":"'Add Staff'!H61","v":0}]
["00",{"$f":"'Add Staff'!B62","v":0},{"$f":"'Add Staff'!D62","v":0},{"$f":"'Add Staff'!C62","v":0},{"$f":"'Add Staff'!E62","v":0},null,{"$f":"'Add Staff'!F62","v":0},"2022-08-18T14:17:27.920","2021-08-17T14:17:27.920",{"$f":"'Add Staff'!G62","v":0},{"$f":"'Add Staff'!H62","v":0}]
["00",{"$f":"'Add Staff'!B63","v":0},{"$f":"'Add Staff'!D63","v":0},{"$f":"'Add Staff'!C63","v":0},{"$f":"'Add Staff'!E63","v":0},null,{"$f":"'Add Staff'!F63","v":0},"2022-08-18T14:17:27.920","2021-08-17T14:17:27.920",{"$f":"'Add Staff'!G63","v":0},{"$f":"'Add Staff'!H63","v":0}]
["00",{"$f":"'Add Staff'!B64","v":0},{"$f":"'Add Staff'!D64","v":0},{"$f":"'Add Staff'!C64","v":0},{"$f":"'Add Staff'!E64","v":0},null,{"$f":"'Add Staff'!F64","v":0},"2022-08-18T14:17:27.920","2021-08-17T14:17:27.920",{"$f":"'Add Staff'!G64","v":0},{"$f":"'Add Staff'!H64","v":0}]
["00",{"$f":"'Add Staff'!B65","v":0},{"$f":"'Add Staff'!D65","v":0},{"$f":"'Add Staff'!C65","v":0},{"$f":"'Add Staff'!E65","v":0},null,{"$f":"'Add Staff'!F65","v":0},"2022-08-18T14:17:27.920","2021-08-17T14:17:27.920",{"$f":"'Add Staff'!G65","v":0},{"$f":"'Add Staff'!H65","v":0}]
["00",{"$f":"'Add Staff'!B66","v":0},{"$f":"'Add Staff'!D66","v":0},{"$f":"'Add Staff'!C66","v":0},{"$f":"'Add Staff'!E66","v":0},null,{"$f":"'Add Staff'!F66","v":0},"2022-08-18T14:17:27.920","2021-08-17T14:17:27.920",{"$f":"'Add Staff'!G66","v":0},{"$f":"'Add Staff'!H66","v":0}]
["00",{"$f":"'Add Staff'!B67","v":0},{"$f":"'Add Staff'!D67","v":0},{"$f":"'Add Staff'!C67","v":0},{"$f":"'Add Staff'!E67","v":0},null,{"$f":"'Add Staff'!F67","v":0},"2022-08-18T14:17:27.920","2021-08-17T14:17:27.920",{"$f":"'Add Staff'!G67","v":0},{"$f":"'Add Staff'!H67","v":0}]
["00",{"$f":"'Add Staff'!B68","v":0},{"$f":"'Add Staff'!D68","v":0},{"$f":"'Add Staff'!C68","v":0},{"$f":"'Add Staff'!E68","v":0},null,{"$f":"'Add Staff'!F68","v":0},"2022-08-18T14:17:27.920","2021-08-17T14:17:27.920",{"$f":"'Add Staff'!G68","v":0},{"$f":"'Add Staff'!H68","v":0}]
["00",{"$f":"'Add Staff'!B69","v":0},{"$f":"'Add Staff'!D69","v":0},{"$f":"'Add Staff'!C69","v":0},{"$f":"'Add Staff'!E69","v":0},null,{"$f":"'Add Staff'!F69","v":0},"2022-08-18T14:17:27.920","2021-08-17T14:17:27.920",{"$f":"'Add Staff'!G69","v":0},{"$f":"'Add Staff'!H69","v":0}]
["00",{"$f":"'Add Staff'!B70","v":0},{"$f":"'Add Staff'!D70","v":0},{"$f":"'Add Staff'!C70","v":0},{"$f":"'Add Staff'!E70","v":0},null,{"$f":"'Add Staff'!F70","v":0},"2022-08-18T14:17:27.920","2021-08-17T14:17:27.920",{"$f":"'Add Staff'!G70","v":0},{"$f":"'Add Staff'!H70","v":0}]
["00",{"$f":"'Add Staff'!B71","v":0},{"$f":"'Add Staff'!D71","v":0},{"$f":"'Add Staff'!C71","v":0},{"$f":"'Add Staff'!E71","v":0},null,{"$f":"'Add Staff'!F71","v":0},"2022-08-18T14:17:27.920","2021-08-17T14:17:27.920",{"$f":"'Add Staff'!G71","v":0},{"$f":"'Add Staff'!H71","v":0}]
["00",{"$f":"'Add Staff'!B72","v":0},{"$f":"'Add Staff'!D72","v":0},{"$f":"'Add Staff'!C72","v":0},{"$f":"'Add Staff'!E72","v":0},null,{"$f":"'Add Staff'!F72","v":0},"2022-08-18T14:17:27.920","2021-08-17T14:17:27.920",{"$f":"'Add Staff'!G72","v":0},{"$f":"'Add Staff'!H72","v":0}]
["00",{"$f":"'Add Staff'!B73","v":0},{"$f":"'Add Staff'!D73","v":0},{"$f":"'Add Staff'!C73","v":0},{"$f":"'Add Staff'!E73","v":0},null,{"$f":"'Add Staff'!F73","v":0},"2022-08-18T14:17:27.920","2021-08-17T14:17:27.920",{"$f":"'Add Staff'!G73","v":0},{"$f":"'Add Staff'!H73","v":0}]
["00",{"$f":"'Add Staff'!B74","v":0},{"$f":"'Add Staff'!D74","v":0},{"$f":"'Add Staff'!C74","v":0},{"$f":"'Add Staff'!E74","v":0},null,{"$f":"'Add Staff'!F74","v":0},"2022-08-18T14:17:27.920","2021-08-17T14:17:27.920",{"$f":"'Add Staff'!G74","v":0},{"$f":"'Add Staff'!H74","v":0}]
["00",{"$f":"'Add Staff'!B75","v":0},{"$f":"'Add Staff'!D75","v":0},{"$f":"'Add Staff'!C75","v":0},{"$f":"'Add Staff'!E75","v":0},null,{"$f":"'Add Staff'!F75","v":0},"2022-08-18T14:17:27.920","2021-08-17T14:17:27.920",{"$f":"'Add Staff'!G75","v":0},{"$f":"'Add Staff'!H75","v":0}]
["00",{"$f":"'Add Staff'!B76","v":0},{"$f":"'Add Staff'!D76","v":0},{"$f":"'Add Staff'!C76","v":0},{"$f":"'Add Staff'!E76","v":0},null,{"$f":"'Add Staff'!F76","v":0},"2022-08-18T14:17:27.920","2021-08-17T14:17:27.920",{"$f":"'Add Staff'!G76","v":0},{"$f":"'Add Staff'!H76","v":0}]
["00",{"$f":"'Add Staff'!B77","v":0},{"$f":"'Add Staff'!D77","v":0},{"$f":"'Add Staff'!C77","v":0},{"$f":"'Add Staff'!E77","v":0},null,{"$f":"'Add Staff'!F77","v":0},"2022-08-18T14:17:27.920","2021-08-17T14:17:27.920",{"$f":"'Add Staff'!G77","v":0},{"$f":"'Add Staff'!H77","v":0}]
["00",{"$f":"'Add Staff'!B78","v":0},{"$f":"'Add Staff'!D78","v":0},{"$f":"'Add Staff'!C78","v":0},{"$f":"'Add Staff'!E78","v":0},null,{"$f":"'Add Staff'!F78","v":0},"2022-08-18T14:17:27.920","2021-08-17T14:17:27.920",{"$f":"'Add Staff'!G78","v":0},{"$f":"'Add Staff'!H78","v":0}]
["00",{"$f":"'Add Staff'!B79","v":0},{"$f":"'Add Staff'!D79","v":0},{"$f":"'Add Staff'!C79","v":0},{"$f":"'Add Staff'!E79","v":0},null,{"$f":"'Add Staff'!F79","v":0},"2022-08-18T14:17:27.920","2021-08-17T14:17:27.920",{"$f":"'Add Staff'!G79","v":0},{"$f":"'Add Staff'!H79","v":0}]
["00",{"$f":"'Add Staff'!B80","v":0},{"$f":"'Add Staff'!D80","v":0},{"$f":"'Add Staff'!C80","v":0},{"$f":"'Add Staff'!E80","v":0},null,{"$f":"'Add Staff'!F80","v":0},"2022-08-18T14:17:27.920","2021-08-17T14:17:27.920",{"$f":"'Add Staff'!G80","v":0},{"$f":"'Add Staff'!H80","v":0}]
["00",{"$f":"'Add Staff'!B81","v":0},{"$f":"'Add Staff'!D81","v":0},{"$f":"'Add Staff'!C81","v":0},{"$f":"'Add Staff'!E81","v":0},null,{"$f":"'Add Staff'!F81","v":0},"2022-08-18T14:17:27.920","2021-08-17T14:17:27.920",{"$f":"'Add Staff'!G81","v":0},{"$f":"'Add Staff'!H81","v":0}]
["00",{"$f":"'Add Staff'!B82","v":0},{"$f":"'Add Staff'!D82","v":0},{"$f":"'Add Staff'!C82","v":0},{"$f":"'Add Staff'!E82","v":0},null,{"$f":"'Add Staff'!F82","v":0},"2022-08-18T14:17:27.920","2021-08-17T14:17:27.920",{"$f":"'Add Staff'!G82","v":0},{"$f":"'Add Staff'!H82","v":0}]
["00",{"$f":"'Add Staff'!B83","v":0},{"$f":"'Add Staff'!D83","v":0},{"$f":"'Add Staff'!C83","v":0},{"$f":"'Add Staff'!E83","v":0},null,{"$f":"'Add Staff'!F83","v":0},"2022-08-18T14:17:27.920","2021-08-17T14:17:27.920",{"$f":"'Add Staff'!G83","v":0},{"$f":"'Add Staff'!H83","v":0}]
["00",{"$f":"'Add Staff'!B84","v":0},{"$f":"'Add Staff'!D84","v":0},{"$f":"'Add Staff'!C84","v":0},{"$f":"'Add Staff'!E84","v":0},null,{"$f":"'Add Staff'!F84","v":0},"2022-08-18T14:17:27.920","2021-08-17T14:17:27.920",{"$f":"'Add Staff'!G84","v":0},{"$f":"'Add Staff'!H84","v":0}]
["00",{"$f":"'Add Staff'!B85","v":0},{"$f":"'Add Staff'!D85","v":0},{"$f":"'Add Staff'!C85","v":0},{"$f":"'Add Staff'!E85","v":0},null,{"$f":"'Add Staff'!F85","v":0},"2022-08-18T14:17:27.920","2021-08-17T14:17:27.920",{"$f":"'Add Staff'!G85","v":0},{"$f":"'Add Staff'!H85","v":0}]
["00",{"$f":"'Add Staff'!B86","v":0},{"$f":"'Add Staff'!D86","v":0},{"$f":"'Add Staff'!C86","v":0},{"$f":"'Add Staff'!E86","v":0},null,{"$f":"'Add Staff'!F86","v":0},"2022-08-18T14:17:27.920","2021-08-17T14:17:27.920",{"$f":"'Add Staff'!G86","v":0},{"$f":"'Add Staff'!H86","v":0}]
["00",{"$f":"'Add Staff'!B87","v":0},{"$f":"'Add Staff'!D87","v":0},{"$f":"'Add Staff'!C87","v":0},{"$f":"'Add Staff'!E87","v":0},null,{"$f":"'Add Staff'!F87","v":0},"2022-08-18T14:17:27.920","2021-08-17T14:17:27.920",{"$f":"'Add Staff'!G87","v":0},{"$f":"'Add Staff'!H87","v":0}]
["00",{"$f":"'Add Staff'!B88","v":0},{"$f":"'Add Staff'!D88","v":0},{"$f":"'Add Staff'!C88","v":0},{"$f":"'Add Staff'!E88","v":0},null,{"$f":"'Add Staff'!F88","v":0},"2022-08-18T14:17:27.920","2021-08-17T14:17:27.920",{"$f":"'Add Staff'!G88","v":0},{"$f":"'Add Staff'!H88","v":0}]
["00",{"$f":"'Add Staff'!B89","v":0},{"$f":"'Add Staff'!D89","v":0},{"$f":"'Add Staff'!C89","v":0},{"$f":"'Add Staff'!E89","v":0},null,{"$f":"'Add Staff'!F89","v":0},"2022-08-18T14:17:27.920","2021-08-17T14:17:27.920",{"$f":"'Add Staff'!G89","v":0},{"$f":"'Add Staff'!H89","v":0}]
["00",{"$f":"'Add Staff'!B90","v":0},{"$f":"'Add Staff'!D90","v":0},{"$f":"'Add Staff'!C90","v":0},{"$f":"'Add Staff'!E90","v":0},null,{"$f":"'Add Staff'!F90","v":0},"2022-08-18T14:17:27.920","2021-08-17T14:17:27.920",{"$f":"'Add Staff'!G90","v":0},{"$f":"'Add Staff'!H90","v":0}]
["00",{"$f":"'Add Staff'!B91","v":0},{"$f":"'Add Staff'!D91","v":0},{"$f":"'Add Staff'!C91","v":0},{"$f":"'Add Staff'!E91","v":0},null,{"$f":"'Add Staff'!F91","v":0},"2022-08-18T14:17:27.920","2021-08-17T14:17:27.920",{"$f":"'Add Staff'!G91","v":0},{"$f":"'Add Staff'!H91","v":0}]
["00",{"$f":"'Add Staff'!B92","v":0},{"$f":"'Add Staff'!D92","v":0},{"$f":"'Add Staff'!C92","v":0},{"$f":"'Add Staff'!E92","v":0},null,{"$f":"'Add Staff'!F92","v":0},"2022-08-18T14:17:27.920","2021-08-17T14:17:27.920",{"$f":"'Add Staff'!G92","v":0},{"$f":"'Add Staff'!H92","v":0}]
["00",{"$f":"'Add Staff'!B93","v":0},{"$f":"'Add Staff'!D93","v":0},{"$f":"'Add Staff'!C93","v":0},{"$f":"'Add Staff'!E93","v":0},null,{"$f":"'Add Staff'!F93","v":0},"2022-08-18T14:17:27.920","2021-08-17T14:17:27.920",{"$f":"'Add Staff'!G93","v":0},{"$f":"'Add Staff'!H93","v":0}]
["00",{"$f":"'Add Staff'!B94","v":0},{"$f":"'Add Staff'!D94","v":0},{"$f":"'Add Staff'!C94","v":0},{"$f":"'Add Staff'!E94","v":0},null,{"$f":"'Add Staff'!F94","v":0},"2022-08-18T14:17:27.920","2021-08-17T14:17:27.920",{"$f":"'Add Staff'!G94","v":0},{"$f":"'Add Staff'!H94","v":0}]
["00",{"$f":"'Add Staff'!B95","v":0},{"$f":"'Add Staff'!D95","v":0},{"$f":"'Add Staff'!C95","v":0},{"$f":"'Add Staff'!E95","v":0},null,{"$f":"'Add Staff'!F95","v":0},"2022-08-18T14:17:27.920","2021-08-17T14:17:27.920",{"$f":"'Add Staff'!G95","v":0},{"$f":"'Add Staff'!H95","v":0}]
["00",{"$f":"'Add Staff'!B96","v":0},{"$f":"'Add Staff'!D96","v":0},{"$f":"'Add Staff'!C96","v":0},{"$f":"'Add Staff'!E96","v":0},null,{"$f":"'Add Staff'!F96","v":0},"2022-08-18T14:17:27.920","2021-08-17T14:17:27.920",{"$f":"'Add Staff'!G96","v":0},{"$f":"'Add Staff'!H96","v":0}]
["00",{"$f":"'Add Staff'!B97","v":0},{"$f":"'Add Staff'!D97","v":0},{"$f":"'Add Staff'!C97","v":0},{"$f":"'Add Staff'!E97","v":0},null,{"$f":"'Add Staff'!F97","v":0},"2022-08-18T14:17:27.920","2021-08-17T14:17:27.920",{"$f":"'Add Staff'!G97","v":0},{"$f":"'Add Staff'!H97","v":0}]
["00",{"$f":"'Add Staff'!B98","v":0},{"$f":"'Add Staff'!D98","v":0},{"$f":"'Add Staff'!C98","v":0},{"$f":"'Add Staff'!E98","v":0},null,{"$f":"'Add Staff'!F98","v":0},"2022-08-18T14:17:27.920","2021-08-17T14:17:27.920",{"$f":"'Add Staff'!G98","v":0},{"$f":"'Add Staff'!H98","v":0}]
["00",{"$f":"'Add Staff'!B99","v":0},{"$f":"'Add Staff'!D99","v":0},{"$f":"'Add Staff'!C99","v":0},{"$f":"'Add Staff'!E99","v":0},null,{"$f":"'Add Staff'!F99","v":0},"2022-08-18T14:17:27.920","2021-08-17T14:17:27.920",{"$f":"'Add Staff'!G99","v":0},{"$f":"'Add Staff'!H99","v":0}]
["00",{"$f":"'Add Staff'!B100","v":0},{"$f":"'Add Staff'!D100","v":0},{"$f":"'Add Staff'!C100","v":0},{"$f":"'Add Staff'!E100","v":0},null,{"$f":"'Add Staff'!F100","v":0},"2022-08-18T14:17:27.920","2021-08-17T14:17:27.920",{"$f":"'Add Staff'!G100","v":0},{"$f":"'Add Staff'!H100","v":0}]
["00",{"$f":"'Add Staff'!B101","v":0},{"$f":"'Add Staff'!D101","v":0},{"$f":"'Add Staff'!C101","v":0},{"$f":"'Add Staff'!E101","v":0},null,{"$f":"'Add Staff'!F101","v":0},"2022-08-18T14:17:27.920","2021-08-17T14:17:27.920",{"$f":"'Add Staff'!G101","v":0},{"$f":"'Add Staff'!H101","v":0}]
["00",{"$f":"'Add Staff'!B102","v":0},{"$f":"'Add Staff'!D102","v":0},{"$f":"'Add Staff'!C102","v":0},{"$f":"'Add Staff'!E102","v":0},null,{"$f":"'Add Staff'!F102","v":0},"2022-08-18T14:17:27.920","2021-08-17T14:17:27.920",{"$f":"'Add Staff'!G102","v":0},{"$f":"'Add Staff'!H102","v":0}]
[{"$f":"LOWER(CONCATENATE(LEFT(B193,1),C193))","v":"00"},{"$f":"'Add Staff'!B103","v":0},{"$f":"'Add Staff'!D103","v":0},{"$f":"'Add Staff'!C103","v":0},{"$f":"'Add Staff'!E103","v":0},null,{"$f":"'Add Staff'!F103","v":0},"2022-08-18T14:17:27.920","2021-08-17T14:17:27.920",{"$f":"'Add Staff'!G103","v":0},{"$f":"'Add Staff'!H103","v":0}]
["00",{"$f":"'Add Staff'!B104","v":0},{"$f":"'Add Staff'!D104","v":0},{"$f":"'Add Staff'!C104","v":0},{"$f":"'Add Staff'!E104","v":0},null,{"$f":"'Add Staff'!F104","v":0},{"$f":"NOW()+365","v":"2022-08-18T14:17:27.920"},{"$f":"NOW()-1","v":"2021-08-17T14:17:27.920"},{"$f":"'Add Staff'!G104","v":0},{"$f":"'Add Staff'!H104","v":0}]
["00",{"$f":"'Add Staff'!B105","v":0},{"$f":"'Add Staff'!D105","v":0},{"$f":"'Add Staff'!C105","v":0},{"$f":"'Add Staff'!E105","v":0},null,{"$f":"'Add Staff'!F105","v":0},"2022-08-18T14:17:27.920","2021-08-17T14:17:27.920",{"$f":"'Add Staff'!G105","v":0},{"$f":"'Add Staff'!H105","v":0}]

{"sheet":"AssignProvUploadFormat","index":4,"n_rows":92,"n_cols":7,"rows_kept":92,"cut":false,"hidden":true,"merged":[]}
["NPI","LAST NAME","Last Name2","FIRST NAME","Middle Name","Licenseid","Externalid"]
[{"$f":"'Add Providers'!F12","v":0},{"$f":"'Add Providers'!D12","v":0},null,{"$f":"'Add Providers'!B12","v":0},{"$f":"'Add Providers'!C12","v":0}]
[{"$f":"'Add Providers'!F13","v":0},{"$f":"'Add Providers'!D13","v":0},null,{"$f":"'Add Providers'!B13","v":0},{"$f":"'Add Providers'!C13","v":0}]
[{"$f":"'Add Providers'!F14","v":0},{"$f":"'Add Providers'!D14","v":0},null,{"$f":"'Add Providers'!B14","v":0},{"$f":"'Add Providers'!C14","v":0}]
[{"$f":"'Add Providers'!F15","v":0},{"$f":"'Add Providers'!D15","v":0},null,{"$f":"'Add Providers'!B15","v":0},{"$f":"'Add Providers'!C15","v":0}]
[{"$f":"'Add Providers'!F16","v":0},{"$f":"'Add Providers'!D16","v":0},null,{"$f":"'Add Providers'!B16","v":0},{"$f":"'Add Providers'!C16","v":0}]
[{"$f":"'Add Providers'!F17","v":0},{"$f":"'Add Providers'!D17","v":0},null,{"$f":"'Add Providers'!B17","v":0},{"$f":"'Add Providers'!C17","v":0}]
[{"$f":"'Add Providers'!F18","v":0},{"$f":"'Add Providers'!D18","v":0},null,{"$f":"'Add Providers'!B18","v":0},{"$f":"'Add Providers'!C18","v":0}]
[{"$f":"'Add Providers'!F19","v":0},{"$f":"'Add Providers'!D19","v":0},null,{"$f":"'Add Providers'!B19","v":0},{"$f":"'Add Providers'!C19","v":0}]
[{"$f":"'Add Providers'!F20","v":0},{"$f":"'Add Providers'!D20","v":0},null,{"$f":"'Add Providers'!B20","v":0},{"$f":"'Add Providers'!C20","v":0}]
[{"$f":"'Add Providers'!F21","v":0},{"$f":"'Add Providers'!D21","v":0},null,{"$f":"'Add Providers'!B21","v":0},{"$f":"'Add Providers'!C21","v":0}]
[{"$f":"'Add Providers'!F22","v":0},{"$f":"'Add Providers'!D22","v":0},null,{"$f":"'Add Providers'!B22","v":0},{"$f":"'Add Providers'!C22","v":0}]
[{"$f":"'Add Providers'!F23","v":0},{"$f":"'Add Providers'!D23","v":0},null,{"$f":"'Add Providers'!B23","v":0},{"$f":"'Add Providers'!C23","v":0}]
[{"$f":"'Add Providers'!F24","v":0},{"$f":"'Add Providers'!D24","v":0},null,{"$f":"'Add Providers'!B24","v":0},{"$f":"'Add Providers'!C24","v":0}]
[{"$f":"'Add Providers'!F25","v":0},{"$f":"'Add Providers'!D25","v":0},null,{"$f":"'Add Providers'!B25","v":0},{"$f":"'Add Providers'!C25","v":0}]
[{"$f":"'Add Providers'!F26","v":0},{"$f":"'Add Providers'!D26","v":0},null,{"$f":"'Add Providers'!B26","v":0},{"$f":"'Add Providers'!C26","v":0}]
[{"$f":"'Add Providers'!F27","v":0},{"$f":"'Add Providers'!D27","v":0},null,{"$f":"'Add Providers'!B27","v":0},{"$f":"'Add Providers'!C27","v":0}]
[{"$f":"'Add Providers'!F28","v":0},{"$f":"'Add Providers'!D28","v":0},null,{"$f":"'Add Providers'!B28","v":0},{"$f":"'Add Providers'!C28","v":0}]
[{"$f":"'Add Providers'!F29","v":0},{"$f":"'Add Providers'!D29","v":0},null,{"$f":"'Add Providers'!B29","v":0},{"$f":"'Add Providers'!C29","v":0}]
[{"$f":"'Add Providers'!F30","v":0},{"$f":"'Add Providers'!D30","v":0},null,{"$f":"'Add Providers'!B30","v":0},{"$f":"'Add Providers'!C30","v":0}]
[{"$f":"'Add Providers'!F31","v":0},{"$f":"'Add Providers'!D31","v":0},null,{"$f":"'Add Providers'!B31","v":0},{"$f":"'Add Providers'!C31","v":0}]
[{"$f":"'Add Providers'!F32","v":0},{"$f":"'Add Providers'!D32","v":0},null,{"$f":"'Add Providers'!B32","v":0},{"$f":"'Add Providers'!C32","v":0}]
[{"$f":"'Add Providers'!F33","v":0},{"$f":"'Add Providers'!D33","v":0},null,{"$f":"'Add Providers'!B33","v":0},{"$f":"'Add Providers'!C33","v":0}]
[{"$f":"'Add Providers'!F34","v":0},{"$f":"'Add Providers'!D34","v":0},null,{"$f":"'Add Providers'!B34","v":0},{"$f":"'Add Providers'!C34","v":0}]
[{"$f":"'Add Providers'!F35","v":0},{"$f":"'Add Providers'!D35","v":0},null,{"$f":"'Add Providers'!B35","v":0},{"$f":"'Add Providers'!C35","v":0}]
[{"$f":"'Add Providers'!F36","v":0},{"$f":"'Add Providers'!D36","v":0},null,{"$f":"'Add Providers'!B36","v":0},{"$f":"'Add Providers'!C36","v":0}]
[{"$f":"'Add Providers'!F37","v":0},{"$f":"'Add Providers'!D37","v":0},null,{"$f":"'Add Providers'!B37","v":0},{"$f":"'Add Providers'!C37","v":0}]
[{"$f":"'Add Providers'!F38","v":0},{"$f":"'Add Providers'!D38","v":0},null,{"$f":"'Add Providers'!B38","v":0},{"$f":"'Add Providers'!C38","v":0}]
[{"$f":"'Add Providers'!F39","v":0},{"$f":"'Add Providers'!D39","v":0},null,{"$f":"'Add Providers'!B39","v":0},{"$f":"'Add Providers'!C39","v":0}]
[{"$f":"'Add Providers'!F40","v":0},{"$f":"'Add Providers'!D40","v":0},null,{"$f":"'Add Providers'!B40","v":0},{"$f":"'Add Providers'!C40","v":0}]
[{"$f":"'Add Providers'!F41","v":0},{"$f":"'Add Providers'!D41","v":0},null,{"$f":"'Add Providers'!B41","v":0},{"$f":"'Add Providers'!C41","v":0}]
[{"$f":"'Add Providers'!F42","v":0},{"$f":"'Add Providers'!D42","v":0},null,{"$f":"'Add Providers'!B42","v":0},{"$f":"'Add Providers'!C42","v":0}]
[{"$f":"'Add Providers'!F43","v":0},{"$f":"'Add Providers'!D43","v":0},null,{"$f":"'Add Providers'!B43","v":0},{"$f":"'Add Providers'!C43","v":0}]
[{"$f":"'Add Providers'!F44","v":0},{"$f":"'Add Providers'!D44","v":0},null,{"$f":"'Add Providers'!B44","v":0},{"$f":"'Add Providers'!C44","v":0}]
[{"$f":"'Add Providers'!F45","v":0},{"$f":"'Add Providers'!D45","v":0},null,{"$f":"'Add Providers'!B45","v":0},{"$f":"'Add Providers'!C45","v":0}]
[{"$f":"'Add Providers'!F46","v":0},{"$f":"'Add Providers'!D46","v":0},null,{"$f":"'Add Providers'!B46","v":0},{"$f":"'Add Providers'!C46","v":0}]
[{"$f":"'Add Providers'!F47","v":0},{"$f":"'Add Providers'!D47","v":0},null,{"$f":"'Add Providers'!B47","v":0},{"$f":"'Add Providers'!C47","v":0}]
[{"$f":"'Add Providers'!F48","v":0},{"$f":"'Add Providers'!D48","v":0},null,{"$f":"'Add Providers'!B48","v":0},{"$f":"'Add Providers'!C48","v":0}]
[{"$f":"'Add Providers'!F49","v":0},{"$f":"'Add Providers'!D49","v":0},null,{"$f":"'Add Providers'!B49","v":0},{"$f":"'Add Providers'!C49","v":0}]
[{"$f":"'Add Providers'!F50","v":0},{"$f":"'Add Providers'!D50","v":0},null,{"$f":"'Add Providers'!B50","v":0},{"$f":"'Add Providers'!C50","v":0}]
[{"$f":"'Add Providers'!F51","v":0},{"$f":"'Add Providers'!D51","v":0},null,{"$f":"'Add Providers'!B51","v":0},{"$f":"'Add Providers'!C51","v":0}]
[{"$f":"'Add Providers'!F52","v":0},{"$f":"'Add Providers'!D52","v":0},null,{"$f":"'Add Providers'!B52","v":0},{"$f":"'Add Providers'!C52","v":0}]
[{"$f":"'Add Providers'!F53","v":0},{"$f":"'Add Providers'!D53","v":0},null,{"$f":"'Add Providers'!B53","v":0},{"$f":"'Add Providers'!C53","v":0}]
[{"$f":"'Add Providers'!F54","v":0},{"$f":"'Add Providers'!D54","v":0},null,{"$f":"'Add Providers'!B54","v":0},{"$f":"'Add Providers'!C54","v":0}]
[{"$f":"'Add Providers'!F55","v":0},{"$f":"'Add Providers'!D55","v":0},null,{"$f":"'Add Providers'!B55","v":0},{"$f":"'Add Providers'!C55","v":0}]
[{"$f":"'Add Providers'!F56","v":0},{"$f":"'Add Providers'!D56","v":0},null,{"$f":"'Add Providers'!B56","v":0},{"$f":"'Add Providers'!C56","v":0}]
[{"$f":"'Add Providers'!F57","v":0},{"$f":"'Add Providers'!D57","v":0},null,{"$f":"'Add Providers'!B57","v":0},{"$f":"'Add Providers'!C57","v":0}]
[{"$f":"'Add Providers'!F58","v":0},{"$f":"'Add Providers'!D58","v":0},null,{"$f":"'Add Providers'!B58","v":0},{"$f":"'Add Providers'!C58","v":0}]
[{"$f":"'Add Providers'!F59","v":0},{"$f":"'Add Providers'!D59","v":0},null,{"$f":"'Add Providers'!B59","v":0},{"$f":"'Add Providers'!C59","v":0}]
[{"$f":"'Add Providers'!F60","v":0},{"$f":"'Add Providers'!D60","v":0},null,{"$f":"'Add Providers'!B60","v":0},{"$f":"'Add Providers'!C60","v":0}]
[{"$f":"'Add Providers'!F61","v":0},{"$f":"'Add Providers'!D61","v":0},null,{"$f":"'Add Providers'!B61","v":0},{"$f":"'Add Providers'!C61","v":0}]
[{"$f":"'Add Providers'!F62","v":0},{"$f":"'Add Providers'!D62","v":0},null,{"$f":"'Add Providers'!B62","v":0},{"$f":"'Add Providers'!C62","v":0}]
[{"$f":"'Add Providers'!F63","v":0},{"$f":"'Add Providers'!D63","v":0},null,{"$f":"'Add Providers'!B63","v":0},{"$f":"'Add Providers'!C63","v":0}]
[{"$f":"'Add Providers'!F64","v":0},{"$f":"'Add Providers'!D64","v":0},null,{"$f":"'Add Providers'!B64","v":0},{"$f":"'Add Providers'!C64","v":0}]
[{"$f":"'Add Providers'!F65","v":0},{"$f":"'Add Providers'!D65","v":0},null,{"$f":"'Add Providers'!B65","v":0},{"$f":"'Add Providers'!C65","v":0}]
[{"$f":"'Add Providers'!F66","v":0},{"$f":"'Add Providers'!D66","v":0},null,{"$f":"'Add Providers'!B66","v":0},{"$f":"'Add Providers'!C66","v":0}]
[{"$f":"'Add Providers'!F67","v":0},{"$f":"'Add Providers'!D67","v":0},null,{"$f":"'Add Providers'!B67","v":0},{"$f":"'Add Providers'!C67","v":0}]
[{"$f":"'Add Providers'!F68","v":0},{"$f":"'Add Providers'!D68","v":0},null,{"$f":"'Add Providers'!B68","v":0},{"$f":"'Add Providers'!C68","v":0}]
[{"$f":"'Add Providers'!F69","v":0},{"$f":"'Add Providers'!D69","v":0},null,{"$f":"'Add Providers'!B69","v":0},{"$f":"'Add Providers'!C69","v":0}]
[{"$f":"'Add Providers'!F70","v":0},{"$f":"'Add Providers'!D70","v":0},null,{"$f":"'Add Providers'!B70","v":0},{"$f":"'Add Providers'!C70","v":0}]
[{"$f":"'Add Providers'!F71","v":0},{"$f":"'Add Providers'!D71","v":0},null,{"$f":"'Add Providers'!B71","v":0},{"$f":"'Add Providers'!C71","v":0}]
[{"$f":"'Add Providers'!F72","v":0},{"$f":"'Add Providers'!D72","v":0},null,{"$f":"'Add Providers'!B72","v":0},{"$f":"'Add Providers'!C72","v":0}]
[{"$f":"'Add Providers'!F73","v":0},{"$f":"'Add Providers'!D73","v":0},null,{"$f":"'Add Providers'!B73","v":0},{"$f":"'Add Providers'!C73","v":0}]
[{"$f":"'Add Providers'!F74","v":0},{"$f":"'Add Providers'!D74","v":0},null,{"$f":"'Add Providers'!B74","v":0},{"$f":"'Add Providers'!C74","v":0}]
[{"$f":"'Add Providers'!F75","v":0},{"$f":"'Add Providers'!D75","v":0},null,{"$f":"'Add Providers'!B75","v":0},{"$f":"'Add Providers'!C75","v":0}]
[{"$f":"'Add Providers'!F76","v":0},{"$f":"'Add Providers'!D76","v":0},null,{"$f":"'Add Providers'!B76","v":0},{"$f":"'Add Providers'!C76","v":0}]
[{"$f":"'Add Providers'!F77","v":0},{"$f":"'Add Providers'!D77","v":0},null,{"$f":"'Add Providers'!B77","v":0},{"$f":"'Add Providers'!C77","v":0}]
[{"$f":"'Add Providers'!F78","v":0},{"$f":"'Add Providers'!D78","v":0},null,{"$f":"'Add Providers'!B78","v":0},{"$f":"'Add Providers'!C78","v":0}]
[{"$f":"'Add Providers'!F79","v":0},{"$f":"'Add Providers'!D79","v":0},null,{"$f":"'Add Providers'!B79","v":0},{"$f":"'Add Providers'!C79","v":0}]
[{"$f":"'Add Providers'!F80","v":0},{"$f":"'Add Providers'!D80","v":0},null,{"$f":"'Add Providers'!B80","v":0},{"$f":"'Add Providers'!C80","v":0}]
[{"$f":"'Add Providers'!F81","v":0},{"$f":"'Add Providers'!D81","v":0},null,{"$f":"'Add Providers'!B81","v":0},{"$f":"'Add Providers'!C81","v":0}]
[{"$f":"'Add Providers'!F82","v":0},{"$f":"'Add Providers'!D82","v":0},null,{"$f":"'Add Providers'!B82","v":0},{"$f":"'Add Providers'!C82","v":0}]
[{"$f":"'Add Providers'!F83","v":0},{"$f":"'Add Providers'!D83","v":0},null,{"$f":"'Add Providers'!B83","v":0},{"$f":"'Add Providers'!C83","v":0}]
[{"$f":"'Add Providers'!F84","v":0},{"$f":"'Add Providers'!D84","v":0},null,{"$f":"'Add Providers'!B84","v":0},{"$f":"'Add Providers'!C84","v":0}]
[{"$f":"'Add Providers'!F85","v":0},{"$f":"'Add Providers'!D85","v":0},null,{"$f":"'Add Providers'!B85","v":0},{"$f":"'Add Providers'!C85","v":0}]
[{"$f":"'Add Providers'!F86","v":0},{"$f":"'Add Providers'!D86","v":0},null,{"$f":"'Add Providers'!B86","v":0},{"$f":"'Add Providers'!C86","v":0}]
[{"$f":"'Add Providers'!F87","v":0},{"$f":"'Add Providers'!D87","v":0},null,{"$f":"'Add Providers'!B87","v":0},{"$f":"'Add Providers'!C87","v":0}]
[{"$f":"'Add Providers'!F88","v":0},{"$f":"'Add Providers'!D88","v":0},null,{"$f":"'Add Providers'!B88","v":0},{"$f":"'Add Providers'!C88","v":0}]
[{"$f":"'Add Providers'!F89","v":0},{"$f":"'Add Providers'!D89","v":0},null,{"$f":"'Add Providers'!B89","v":0},{"$f":"'Add Providers'!C89","v":0}]
[{"$f":"'Add Providers'!F90","v":0},{"$f":"'Add Providers'!D90","v":0},null,{"$f":"'Add Providers'!B90","v":0},{"$f":"'Add Providers'!C90","v":0}]
[{"$f":"'Add Providers'!F91","v":0},{"$f":"'Add Providers'!D91","v":0},null,{"$f":"'Add Providers'!B91","v":0},{"$f":"'Add Providers'!C91","v":0}]
[{"$f":"'Add Providers'!F92","v":0},{"$f":"'Add Providers'!D92","v":0},null,{"$f":"'Add Providers'!B92","v":0},{"$f":"'Add Providers'!C92","v":0}]
[{"$f":"'Add Providers'!F93","v":0},{"$f":"'Add Providers'!D93","v":0},null,{"$f":"'Add Providers'!B93","v":0},{"$f":"'Add Providers'!C93","v":0}]
[{"$f":"'Add Providers'!F94","v":0},{"$f":"'Add Providers'!D94","v":0},null,{"$f":"'Add Providers'!B94","v":0},{"$f":"'Add Providers'!C94","v":0}]
[{"$f":"'Add Providers'!F95","v":0},{"$f":"'Add Providers'!D95","v":0},null,{"$f":"'Add Providers'!B95","v":0},{"$f":"'Add Providers'!C95","v":0}]
[{"$f":"'Add Providers'!F96","v":0},{"$f":"'Add Providers'!D96","v":0},null,{"$f":"'Add Providers'!B96","v":0},{"$f":"'Add Providers'!C96","v":0}]
[{"$f":"'Add Providers'!F97","v":0},{"$f":"'Add Providers'!D97","v":0},null,{"$f":"'Add Providers'!B97","v":0},{"$f":"'Add Providers'!C97","v":0}]
[{"$f":"'Add Providers'!F98","v":0},{"$f":"'Add Providers'!D98","v":0},null,{"$f":"'Add Providers'!B98","v":0},{"$f":"'Add Providers'!C98","v":0}]
[{"$f":"'Add Providers'!F99","v":0},{"$f":"'Add Providers'!D99","v":0},null,{"$f":"'Add Providers'!B99","v":0},{"$f":"'Add Providers'!C99","v":0}]
[{"$f":"'Add Providers'!F100","v":0},{"$f":"'Add Providers'!D100","v":0},null,{"$f":"'Add Providers'!B100","v":0},{"$f":"'Add Providers'!C100","v":0}]
[{"$f":"'Add Providers'!F101","v":0},{"$f":"'Add Providers'!D101","v":0},null,{"$f":"'Add Providers'!B101","v":0},{"$f":"'Add Providers'!C101","v":0}]
[{"$f":"'Add Providers'!F102","v":0},{"$f":"'Add Providers'!D102","v":0},null,{"$f":"'Add Providers'!B102","v":0},{"$f":"'Add Providers'!C102","v":0}]

{"sheet":"DH_PSF","index":5,"n_rows":0,"n_cols":0,"rows_kept":0,"cut":false,"hidden":true,"merged":[]}

{"sheet":"DH_UserUploadFormat","index":6,"n_rows":103,"n_cols":13,"rows_kept":103,"cut":false,"hidden":true,"merged":[]}
["usernm","firstname","lastname","middlename","email","group","role","userExpiration","passwordExpiration","areaCode","PhoneNumber"]
[{"$f":"LOWER(CONCATENATE(LEFT(B2,1),C2))","v":"00"},{"$f":"DH_PSF!B11","v":0},{"$f":"DH_PSF!D11","v":0},null,{"$f":"DH_PSF!F11","v":0},null,null,{"$f":"NOW()+3650","v":"2031-08-16T14:17:27.920"},{"$f":"NOW()-1","v":"2021-08-17T14:17:27.920"},{"$f":"LEFT(M2,3)","v":"0"},{"$f":"RIGHT(M2,7)","v":"0"},{"$f":"DH_PSF!E11","v":0},{"$f":"SUBSTITUTE(SUBSTITUTE(SUBSTITUTE(SUBSTITUTE(SUBSTITUTE(L2,\"(\",\"\"),\")\",\"\"),\"-\",\"\"),\" \",\"\"),\".\",\"\")+0","v":0}]
["00",{"$f":"DH_PSF!B12","v":0},{"$f":"DH_PSF!D12","v":0},null,{"$f":"DH_PSF!F12","v":0},null,null,"2031-08-16T14:17:27.920","2021-08-17T14:17:27.920","0","0",{"$f":"DH_PSF!E12","v":0},0]
[{"$f":"LOWER(CONCATENATE(LEFT(B4,1),C4))","v":"00"},{"$f":"DH_PSF!B13","v":0},{"$f":"DH_PSF!D13","v":0},null,{"$f":"DH_PSF!F13","v":0},null,null,"2031-08-16T14:17:27.920","2021-08-17T14:17:27.920",{"$f":"LEFT(M4,3)","v":"0"},{"$f":"RIGHT(M4,7)","v":"0"},{"$f":"DH_PSF!E13","v":0},{"$f":"SUBSTITUTE(SUBSTITUTE(SUBSTITUTE(SUBSTITUTE(SUBSTITUTE(L4,\"(\",\"\"),\")\",\"\"),\"-\",\"\"),\" \",\"\"),\".\",\"\")+0","v":0}]
["00",{"$f":"DH_PSF!B14","v":0},{"$f":"DH_PSF!D14","v":0},null,{"$f":"DH_PSF!F14","v":0},null,null,"2031-08-16T14:17:27.920","2021-08-17T14:17:27.920","0","0",{"$f":"DH_PSF!E14","v":0},0]
["00",{"$f":"DH_PSF!B15","v":0},{"$f":"DH_PSF!D15","v":0},null,{"$f":"DH_PSF!F15","v":0},null,null,"2031-08-16T14:17:27.920","2021-08-17T14:17:27.920","0","0",{"$f":"DH_PSF!E15","v":0},0]
["00",{"$f":"DH_PSF!B16","v":0},{"$f":"DH_PSF!D16","v":0},null,{"$f":"DH_PSF!F16","v":0},null,null,"2031-08-16T14:17:27.920","2021-08-17T14:17:27.920","0","0",{"$f":"DH_PSF!E16","v":0},0]
["00",{"$f":"DH_PSF!B17","v":0},{"$f":"DH_PSF!D17","v":0},null,{"$f":"DH_PSF!F17","v":0},null,null,"2031-08-16T14:17:27.920","2021-08-17T14:17:27.920","0","0",{"$f":"DH_PSF!E17","v":0},0]
["00",{"$f":"DH_PSF!B18","v":0},{"$f":"DH_PSF!D18","v":0},null,{"$f":"DH_PSF!F18","v":0},null,null,"2031-08-16T14:17:27.920","2021-08-17T14:17:27.920","0","0",{"$f":"DH_PSF!E18","v":0},0]
["00",{"$f":"DH_PSF!B19","v":0},{"$f":"DH_PSF!D19","v":0},null,{"$f":"DH_PSF!F19","v":0},null,null,"2031-08-16T14:17:27.920","2021-08-17T14:17:27.920","0","0",{"$f":"DH_PSF!E19","v":0},0]
["00",{"$f":"DH_PSF!B20","v":0},{"$f":"DH_PSF!D20","v":0},null,{"$f":"DH_PSF!F20","v":0},null,null,"2031-08-16T14:17:27.920","2021-08-17T14:17:27.920","0","0",{"$f":"DH_PSF!E20","v":0},0]
["00",{"$f":"DH_PSF!B21","v":0},{"$f":"DH_PSF!D21","v":0},null,{"$f":"DH_PSF!F21","v":0},null,null,"2031-08-16T14:17:27.920","2021-08-17T14:17:27.920","0","0",{"$f":"DH_PSF!E21","v":0},0]
["00",{"$f":"DH_PSF!B22","v":0},{"$f":"DH_PSF!D22","v":0},null,{"$f":"DH_PSF!F22","v":0},null,null,"2031-08-16T14:17:27.920","2021-08-17T14:17:27.920","0","0",{"$f":"DH_PSF!E22","v":0},0]
["00",{"$f":"DH_PSF!B23","v":0},{"$f":"DH_PSF!D23","v":0},null,{"$f":"DH_PSF!F23","v":0},null,null,"2031-08-16T14:17:27.920","2021-08-17T14:17:27.920","0","0",{"$f":"DH_PSF!E23","v":0},0]
["00",{"$f":"DH_PSF!B24","v":0},{"$f":"DH_PSF!D24","v":0},null,{"$f":"DH_PSF!F24","v":0},null,null,"2031-08-16T14:17:27.920","2021-08-17T14:17:27.920","0","0",{"$f":"DH_PSF!E24","v":0},0]
["00",{"$f":"DH_PSF!B25","v":0},{"$f":"DH_PSF!D25","v":0},null,{"$f":"DH_PSF!F25","v":0},null,null,"2031-08-16T14:17:27.920","2021-08-17T14:17:27.920","0","0",{"$f":"DH_PSF!E25","v":0},0]
["00",{"$f":"DH_PSF!B26","v":0},{"$f":"DH_PSF!D26","v":0},null,{"$f":"DH_PSF!F26","v":0},null,null,"2031-08-16T14:17:27.920","2021-08-17T14:17:27.920","0","0",{"$f":"DH_PSF!E26","v":0},0]
["00",{"$f":"DH_PSF!B27","v":0},{"$f":"DH_PSF!D27","v":0},null,{"$f":"DH_PSF!F27","v":0},null,null,"2031-08-16T14:17:27.920","2021-08-17T14:17:27.920","0","0",{"$f":"DH_PSF!E27","v":0},0]
["00",{"$f":"DH_PSF!B28","v":0},{"$f":"DH_PSF!D28","v":0},null,{"$f":"DH_PSF!F28","v":0},null,null,"2031-08-16T14:17:27.920","2021-08-17T14:17:27.920","0","0",{"$f":"DH_PSF!E28","v":0},0]
["00",{"$f":"DH_PSF!B29","v":0},{"$f":"DH_PSF!D29","v":0},null,{"$f":"DH_PSF!F29","v":0},null,null,"2031-08-16T14:17:27.920","2021-08-17T14:17:27.920","0","0",{"$f":"DH_PSF!E29","v":0},0]
["00",{"$f":"DH_PSF!B30","v":0},{"$f":"DH_PSF!D30","v":0},null,{"$f":"DH_PSF!F30","v":0},null,null,"2031-08-16T14:17:27.920","2021-08-17T14:17:27.920","0","0",{"$f":"DH_PSF!E30","v":0},0]
["00",{"$f":"DH_PSF!B31","v":0},{"$f":"DH_PSF!D31","v":0},null,{"$f":"DH_PSF!F31","v":0},null,null,"2031-08-16T14:17:27.920","2021-08-17T14:17:27.920","0","0",{"$f":"DH_PSF!E31","v":0},0]
["00",{"$f":"DH_PSF!B32","v":0},{"$f":"DH_PSF!D32","v":0},null,{"$f":"DH_PSF!F32","v":0},null,null,"2031-08-16T14:17:27.920","2021-08-17T14:17:27.920","0","0",{"$f":"DH_PSF!E32","v":0},0]
["00",{"$f":"DH_PSF!B33","v":0},{"$f":"DH_PSF!D33","v":0},null,{"$f":"DH_PSF!F33","v":0},null,null,"2031-08-16T14:17:27.920","2021-08-17T14:17:27.920","0","0",{"$f":"DH_PSF!E33","v":0},0]
["00",{"$f":"DH_PSF!B34","v":0},{"$f":"DH_PSF!D34","v":0},null,{"$f":"DH_PSF!F34","v":0},null,null,"2031-08-16T14:17:27.920","2021-08-17T14:17:27.920","0","0",{"$f":"DH_PSF!E34","v":0},0]
["00",{"$f":"DH_PSF!B35","v":0},{"$f":"DH_PSF!D35","v":0},null,{"$f":"DH_PSF!F35","v":0},null,null,"2031-08-16T14:17:27.920","2021-08-17T14:17:27.920","0","0",{"$f":"DH_PSF!E35","v":0},0]
["00",{"$f":"DH_PSF!B36","v":0},{"$f":"DH_PSF!D36","v":0},null,{"$f":"DH_PSF!F36","v":0},null,null,"2031-08-16T14:17:27.920","2021-08-17T14:17:27.920","0","0",{"$f":"DH_PSF!E36","v":0},0]
["00",{"$f":"DH_PSF!B37","v":0},{"$f":"DH_PSF!D37","v":0},null,{"$f":"DH_PSF!F37","v":0},null,null,"2031-08-16T14:17:27.920","2021-08-17T14:17:27.920","0","0",{"$f":"DH_PSF!E37","v":0},0]
["00",{"$f":"DH_PSF!B38","v":0},{"$f":"DH_PSF!D38","v":0},null,{"$f":"DH_PSF!F38","v":0},null,null,"2031-08-16T14:17:27.920","2021-08-17T14:17:27.920","0","0",{"$f":"DH_PSF!E38","v":0},0]
["00",{"$f":"DH_PSF!B39","v":0},{"$f":"DH_PSF!D39","v":0},null,{"$f":"DH_PSF!F39","v":0},null,null,"2031-08-16T14:17:27.920","2021-08-17T14:17:27.920","0","0",{"$f":"DH_PSF!E39","v":0},0]
["00",{"$f":"DH_PSF!B40","v":0},{"$f":"DH_PSF!D40","v":0},null,{"$f":"DH_PSF!F40","v":0},null,null,"2031-08-16T14:17:27.920","2021-08-17T14:17:27.920","0","0",{"$f":"DH_PSF!E40","v":0},0]
["00",{"$f":"DH_PSF!B41","v":0},{"$f":"DH_PSF!D41","v":0},null,{"$f":"DH_PSF!F41","v":0},null,null,"2031-08-16T14:17:27.920","2021-08-17T14:17:27.920","0","0",{"$f":"DH_PSF!E41","v":0},0]
["00",{"$f":"DH_PSF!B42","v":0},{"$f":"DH_PSF!D42","v":0},null,{"$f":"DH_PSF!F42","v":0},null,null,"2031-08-16T14:17:27.920","2021-08-17T14:17:27.920","0","0",{"$f":"DH_PSF!E42","v":0},0]
["00",{"$f":"DH_PSF!B43","v":0},{"$f":"DH_PSF!D43","v":0},null,{"$f":"DH_PSF!F43","v":0},null,null,"2031-08-16T14:17:27.920","2021-08-17T14:17:27.920","0","0",{"$f":"DH_PSF!E43","v":0},0]
["00",{"$f":"DH_PSF!B44","v":0},{"$f":"DH_PSF!D44","v":0},null,{"$f":"DH_PSF!F44","v":0},null,null,"2031-08-16T14:17:27.920","2021-08-17T14:17:27.920","0","0",{"$f":"DH_PSF!E44","v":0},0]
["00",{"$f":"DH_PSF!B45","v":0},{"$f":"DH_PSF!D45","v":0},null,{"$f":"DH_PSF!F45","v":0},null,null,"2031-08-16T14:17:27.920","2021-08-17T14:17:27.920","0","0",{"$f":"DH_PSF!E45","v":0},0]
["00",{"$f":"DH_PSF!B46","v":0},{"$f":"DH_PSF!D46","v":0},null,{"$f":"DH_PSF!F46","v":0},null,null,"2031-08-16T14:17:27.920","2021-08-17T14:17:27.920","0","0",{"$f":"DH_PSF!E46","v":0},0]
["00",{"$f":"DH_PSF!B47","v":0},{"$f":"DH_PSF!D47","v":0},null,{"$f":"DH_PSF!F47","v":0},null,null,"2031-08-16T14:17:27.920","2021-08-17T14:17:27.920","0","0",{"$f":"DH_PSF!E47","v":0},0]
["00",{"$f":"DH_PSF!B48","v":0},{"$f":"DH_PSF!D48","v":0},null,{"$f":"DH_PSF!F48","v":0},null,null,"2031-08-16T14:17:27.920","2021-08-17T14:17:27.920","0","0",{"$f":"DH_PSF!E48","v":0},0]
["00",{"$f":"DH_PSF!B49","v":0},{"$f":"DH_PSF!D49","v":0},null,{"$f":"DH_PSF!F49","v":0},null,null,"2031-08-16T14:17:27.920","2021-08-17T14:17:27.920","0","0",{"$f":"DH_PSF!E49","v":0},0]
["00",{"$f":"DH_PSF!B50","v":0},{"$f":"DH_PSF!D50","v":0},null,{"$f":"DH_PSF!F50","v":0},null,null,"2031-08-16T14:17:27.920","2021-08-17T14:17:27.920","0","0",{"$f":"DH_PSF!E50","v":0},0]
["00",{"$f":"DH_PSF!B51","v":0},{"$f":"DH_PSF!D51","v":0},null,{"$f":"DH_PSF!F51","v":0},null,null,"2031-08-16T14:17:27.920","2021-08-17T14:17:27.920","0","0",{"$f":"DH_PSF!E51","v":0},0]
["00",{"$f":"DH_PSF!B52","v":0},{"$f":"DH_PSF!D52","v":0},null,{"$f":"DH_PSF!F52","v":0},null,null,"2031-08-16T14:17:27.920","2021-08-17T14:17:27.920","0","0",{"$f":"DH_PSF!E52","v":0},0]
["00",{"$f":"DH_PSF!B53","v":0},{"$f":"DH_PSF!D53","v":0},null,{"$f":"DH_PSF!F53","v":0},null,null,"2031-08-16T14:17:27.920","2021-08-17T14:17:27.920","0","0",{"$f":"DH_PSF!E53","v":0},0]
["00",{"$f":"DH_PSF!B54","v":0},{"$f":"DH_PSF!D54","v":0},null,{"$f":"DH_PSF!F54","v":0},null,null,"2031-08-16T14:17:27.920","2021-08-17T14:17:27.920","0","0",{"$f":"DH_PSF!E54","v":0},0]
["00",{"$f":"DH_PSF!B55","v":0},{"$f":"DH_PSF!D55","v":0},null,{"$f":"DH_PSF!F55","v":0},null,null,"2031-08-16T14:17:27.920","2021-08-17T14:17:27.920","0","0",{"$f":"DH_PSF!E55","v":0},0]
["00",{"$f":"DH_PSF!B56","v":0},{"$f":"DH_PSF!D56","v":0},null,{"$f":"DH_PSF!F56","v":0},null,null,"2031-08-16T14:17:27.920","2021-08-17T14:17:27.920","0","0",{"$f":"DH_PSF!E56","v":0},0]
["00",{"$f":"DH_PSF!B57","v":0},{"$f":"DH_PSF!D57","v":0},null,{"$f":"DH_PSF!F57","v":0},null,null,"2031-08-16T14:17:27.920","2021-08-17T14:17:27.920","0","0",{"$f":"DH_PSF!E57","v":0},0]
["00",{"$f":"DH_PSF!B58","v":0},{"$f":"DH_PSF!D58","v":0},null,{"$f":"DH_PSF!F58","v":0},null,null,"2031-08-16T14:17:27.920","2021-08-17T14:17:27.920","0","0",{"$f":"DH_PSF!E58","v":0},0]
["00",{"$f":"DH_PSF!B59","v":0},{"$f":"DH_PSF!D59","v":0},null,{"$f":"DH_PSF!F59","v":0},null,null,"2031-08-16T14:17:27.920","2021-08-17T14:17:27.920","0","0",{"$f":"DH_PSF!E59","v":0},0]
["00",{"$f":"DH_PSF!B60","v":0},{"$f":"DH_PSF!D60","v":0},null,{"$f":"DH_PSF!F60","v":0},null,null,"2031-08-16T14:17:27.920","2021-08-17T14:17:27.920","0","0",{"$f":"DH_PSF!E60","v":0},0]
["00",{"$f":"DH_PSF!B61","v":0},{"$f":"DH_PSF!D61","v":0},null,{"$f":"DH_PSF!F61","v":0},null,null,"2031-08-16T14:17:27.920","2021-08-17T14:17:27.920","0","0",{"$f":"DH_PSF!E61","v":0},0]
["00",{"$f":"DH_PSF!B62","v":0},{"$f":"DH_PSF!D62","v":0},null,{"$f":"DH_PSF!F62","v":0},null,null,"2031-08-16T14:17:27.920","2021-08-17T14:17:27.920","0","0",{"$f":"DH_PSF!E62","v":0},0]
["00",{"$f":"DH_PSF!B63","v":0},{"$f":"DH_PSF!D63","v":0},null,{"$f":"DH_PSF!F63","v":0},null,null,"2031-08-16T14:17:27.920","2021-08-17T14:17:27.920","0","0",{"$f":"DH_PSF!E63","v":0},0]
["00",{"$f":"DH_PSF!B64","v":0},{"$f":"DH_PSF!D64","v":0},null,{"$f":"DH_PSF!F64","v":0},null,null,"2031-08-16T14:17:27.920","2021-08-17T14:17:27.920","0","0",{"$f":"DH_PSF!E64","v":0},0]
["00",{"$f":"DH_PSF!B65","v":0},{"$f":"DH_PSF!D65","v":0},null,{"$f":"DH_PSF!F65","v":0},null,null,"2031-08-16T14:17:27.920","2021-08-17T14:17:27.920","0","0",{"$f":"DH_PSF!E65","v":0},0]
["00",{"$f":"DH_PSF!B66","v":0},{"$f":"DH_PSF!D66","v":0},null,{"$f":"DH_PSF!F66","v":0},null,null,"2031-08-16T14:17:27.920","2021-08-17T14:17:27.920","0","0",{"$f":"DH_PSF!E66","v":0},0]
["00",{"$f":"DH_PSF!B67","v":0},{"$f":"DH_PSF!D67","v":0},null,{"$f":"DH_PSF!F67","v":0},null,null,"2031-08-16T14:17:27.920","2021-08-17T14:17:27.920","0","0",{"$f":"DH_PSF!E67","v":0},0]
["00",{"$f":"DH_PSF!B68","v":0},{"$f":"DH_PSF!D68","v":0},null,{"$f":"DH_PSF!F68","v":0},null,null,"2031-08-16T14:17:27.920","2021-08-17T14:17:27.920","0","0",{"$f":"DH_PSF!E68","v":0},0]
["00",{"$f":"DH_PSF!B69","v":0},{"$f":"DH_PSF!D69","v":0},null,{"$f":"DH_PSF!F69","v":0},null,null,"2031-08-16T14:17:27.920","2021-08-17T14:17:27.920","0","0",{"$f":"DH_PSF!E69","v":0},0]
["00",{"$f":"DH_PSF!B70","v":0},{"$f":"DH_PSF!D70","v":0},null,{"$f":"DH_PSF!F70","v":0},null,null,"2031-08-16T14:17:27.920","2021-08-17T14:17:27.920","0","0",{"$f":"DH_PSF!E70","v":0},0]
["00",{"$f":"DH_PSF!B71","v":0},{"$f":"DH_PSF!D71","v":0},null,{"$f":"DH_PSF!F71","v":0},null,null,"2031-08-16T14:17:27.920","2021-08-17T14:17:27.920","0","0",{"$f":"DH_PSF!E71","v":0},0]
["00",{"$f":"DH_PSF!B72","v":0},{"$f":"DH_PSF!D72","v":0},null,{"$f":"DH_PSF!F72","v":0},null,null,"2031-08-16T14:17:27.920","2021-08-17T14:17:27.920","0","0",{"$f":"DH_PSF!E72","v":0},0]
["00",{"$f":"DH_PSF!B73","v":0},{"$f":"DH_PSF!D73","v":0},null,{"$f":"DH_PSF!F73","v":0},null,null,"2031-08-16T14:17:27.920","2021-08-17T14:17:27.920","0","0",{"$f":"DH_PSF!E73","v":0},0]
["00",{"$f":"DH_PSF!B74","v":0},{"$f":"DH_PSF!D74","v":0},null,{"$f":"DH_PSF!F74","v":0},null,null,"2031-08-16T14:17:27.920","2021-08-17T14:17:27.920","0","0",{"$f":"DH_PSF!E74","v":0},0]
["00",{"$f":"DH_PSF!B75","v":0},{"$f":"DH_PSF!D75","v":0},null,{"$f":"DH_PSF!F75","v":0},null,null,{"$f":"NOW()+3650","v":"2031-08-16T14:17:27.920"},{"$f":"NOW()-1","v":"2021-08-17T14:17:27.920"},"0","0",{"$f":"DH_PSF!E75","v":0},0]
["00",{"$f":"DH_PSF!B76","v":0},{"$f":"DH_PSF!D76","v":0},null,{"$f":"DH_PSF!F76","v":0},null,null,"2031-08-16T14:17:27.920","2021-08-17T14:17:27.920","0","0",{"$f":"DH_PSF!E76","v":0},0]
[{"$f":"LOWER(CONCATENATE(LEFT(B68,1),C68))","v":"00"},{"$f":"DH_PSF!B77","v":0},{"$f":"DH_PSF!D77","v":0},null,{"$f":"DH_PSF!F77","v":0},null,null,"2031-08-16T14:17:27.920","2021-08-17T14:17:27.920",{"$f":"LEFT(M68,3)","v":"0"},{"$f":"RIGHT(M68,7)","v":"0"},{"$f":"DH_PSF!E77","v":0},{"$f":"SUBSTITUTE(SUBSTITUTE(SUBSTITUTE(SUBSTITUTE(SUBSTITUTE(L68,\"(\",\"\"),\")\",\"\"),\"-\",\"\"),\" \",\"\"),\".\",\"\")+0","v":0}]
["00",{"$f":"DH_PSF!B78","v":0},{"$f":"DH_PSF!D78","v":0},null,{"$f":"DH_PSF!F78","v":0},null,null,"2031-08-16T14:17:27.920","2021-08-17T14:17:27.920","0","0",{"$f":"DH_PSF!E78","v":0},0]
["00",{"$f":"DH_PSF!B79","v":0},{"$f":"DH_PSF!D79","v":0},null,{"$f":"DH_PSF!F79","v":0},null,null,"2031-08-16T14:17:27.920","2021-08-17T14:17:27.920","0","0",{"$f":"DH_PSF!E79","v":0},0]
["00",{"$f":"DH_PSF!B80","v":0},{"$f":"DH_PSF!D80","v":0},null,{"$f":"DH_PSF!F80","v":0},null,null,"2031-08-16T14:17:27.920","2021-08-17T14:17:27.920","0","0",{"$f":"DH_PSF!E80","v":0},0]
["00",{"$f":"DH_PSF!B81","v":0},{"$f":"DH_PSF!D81","v":0},null,{"$f":"DH_PSF!F81","v":0},null,null,"2031-08-16T14:17:27.920","2021-08-17T14:17:27.920","0","0",{"$f":"DH_PSF!E81","v":0},0]
["00",{"$f":"DH_PSF!B82","v":0},{"$f":"DH_PSF!D82","v":0},null,{"$f":"DH_PSF!F82","v":0},null,null,"2031-08-16T14:17:27.920","2021-08-17T14:17:27.920","0","0",{"$f":"DH_PSF!E82","v":0},0]
["00",{"$f":"DH_PSF!B83","v":0},{"$f":"DH_PSF!D83","v":0},null,{"$f":"DH_PSF!F83","v":0},null,null,"2031-08-16T14:17:27.920","2021-08-17T14:17:27.920","0","0",{"$f":"DH_PSF!E83","v":0},0]
["00",{"$f":"DH_PSF!B84","v":0},{"$f":"DH_PSF!D84","v":0},null,{"$f":"DH_PSF!F84","v":0},null,null,"2031-08-16T14:17:27.920","2021-08-17T14:17:27.920","0","0",{"$f":"DH_PSF!E84","v":0},0]
["00",{"$f":"DH_PSF!B85","v":0},{"$f":"DH_PSF!D85","v":0},null,{"$f":"DH_PSF!F85","v":0},null,null,"2031-08-16T14:17:27.920","2021-08-17T14:17:27.920","0","0",{"$f":"DH_PSF!E85","v":0},0]
["00",{"$f":"DH_PSF!B86","v":0},{"$f":"DH_PSF!D86","v":0},null,{"$f":"DH_PSF!F86","v":0},null,null,"2031-08-16T14:17:27.920","2021-08-17T14:17:27.920","0","0",{"$f":"DH_PSF!E86","v":0},0]
["00",{"$f":"DH_PSF!B87","v":0},{"$f":"DH_PSF!D87","v":0},null,{"$f":"DH_PSF!F87","v":0},null,null,"2031-08-16T14:17:27.920","2021-08-17T14:17:27.920","0","0",{"$f":"DH_PSF!E87","v":0},0]
["00",{"$f":"DH_PSF!B88","v":0},{"$f":"DH_PSF!D88","v":0},null,{"$f":"DH_PSF!F88","v":0},null,null,"2031-08-16T14:17:27.920","2021-08-17T14:17:27.920","0","0",{"$f":"DH_PSF!E88","v":0},0]
["00",{"$f":"DH_PSF!B89","v":0},{"$f":"DH_PSF!D89","v":0},null,{"$f":"DH_PSF!F89","v":0},null,null,"2031-08-16T14:17:27.920","2021-08-17T14:17:27.920","0","0",{"$f":"DH_PSF!E89","v":0},0]
["00",{"$f":"DH_PSF!B90","v":0},{"$f":"DH_PSF!D90","v":0},null,{"$f":"DH_PSF!F90","v":0},null,null,"2031-08-16T14:17:27.920","2021-08-17T14:17:27.920","0","0",{"$f":"DH_PSF!E90","v":0},0]
["00",{"$f":"DH_PSF!B91","v":0},{"$f":"DH_PSF!D91","v":0},null,{"$f":"DH_PSF!F91","v":0},null,null,"2031-08-16T14:17:27.920","2021-08-17T14:17:27.920","0","0",{"$f":"DH_PSF!E91","v":0},0]
["00",{"$f":"DH_PSF!B92","v":0},{"$f":"DH_PSF!D92","v":0},null,{"$f":"DH_PSF!F92","v":0},null,null,"2031-08-16T14:17:27.920","2021-08-17T14:17:27.920","0","0",{"$f":"DH_PSF!E92","v":0},0]
["00",{"$f":"DH_PSF!B93","v":0},{"$f":"DH_PSF!D93","v":0},null,{"$f":"DH_PSF!F93","v":0},null,null,"2031-08-16T14:17:27.920","2021-08-17T14:17:27.920","0","0",{"$f":"DH_PSF!E93","v":0},0]
["00",{"$f":"DH_PSF!B94","v":0},{"$f":"DH_PSF!D94","v":0},null,{"$f":"DH_PSF!F94","v":0},null,null,"2031-08-16T14:17:27.920","2021-08-17T14:17:27.920","0","0",{"$f":"DH_PSF!E94","v":0},0]
["00",{"$f":"DH_PSF!B95","v":0},{"$f":"DH_PSF!D95","v":0},null,{"$f":"DH_PSF!F95","v":0},null,null,"2031-08-16T14:17:27.920","2021-08-17T14:17:27.920","0","0",{"$f":"DH_PSF!E95","v":0},0]
["00",{"$f":"DH_PSF!B96","v":0},{"$f":"DH_PSF!D96","v":0},null,{"$f":"DH_PSF!F96","v":0},null,null,"2031-08-16T14:17:27.920","2021-08-17T14:17:27.920","0","0",{"$f":"DH_PSF!E96","v":0},0]
["00",{"$f":"DH_PSF!B97","v":0},{"$f":"DH_PSF!D97","v":0},null,{"$f":"DH_PSF!F97","v":0},null,null,"2031-08-16T14:17:27.920","2021-08-17T14:17:27.920","0","0",{"$f":"DH_PSF!E97","v":0},0]
["00",{"$f":"DH_PSF!B98","v":0},{"$f":"DH_PSF!D98","v":0},null,{"$f":"DH_PSF!F98","v":0},null,null,"2031-08-16T14:17:27.920","2021-08-17T14:17:27.920","0","0",{"$f":"DH_PSF!E98","v":0},0]
["00",{"$f":"DH_PSF!B99","v":0},{"$f":"DH_PSF!D99","v":0},null,{"$f":"DH_PSF!F99","v":0},null,null,"2031-08-16T14:17:27.920","2021-08-17T14:17:27.920","0","0",{"$f":"DH_PSF!E99","v":0},0]
["00",{"$f":"DH_PSF!B100","v":0},{"$f":"DH_PSF!D100","v":0},null,{"$f":"DH_PSF!F100","v":0},null,null,"2031-08-16T14:17:27.920","2021-08-17T14:17:27.920","0","0",{"$f":"DH_PSF!E100","v":0},0]
["00",{"$f":"DH_PSF!B101","v":0},{"$f":"DH_PSF!D101","v":0},null,{"$f":"DH_PSF!F101","v":0},null,null,"2031-08-16T14:17:27.920","2021-08-17T14:17:27.920","0","0",{"$f":"DH_PSF!E101","v":0},0]
["00",{"$f":"DH_PSF!B102","v":0},{"$f":"DH_PSF!D102","v":0},null,{"$f":"DH_PSF!F102","v":0},null,null,"2031-08-16T14:17:27.920","2021-08-17T14:17:27.920","0","0",{"$f":"DH_PSF!E102","v":0},0]
["00",{"$f":"DH_PSF!B103","v":0},{"$f":"DH_PSF!D103","v":0},null,{"$f":"DH_PSF!F103","v":0},null,null,"2031-08-16T14:17:27.920","2021-08-17T14:17:27.920","0","0",{"$f":"DH_PSF!E103","v":0},0]
["00",{"$f":"DH_PSF!B104","v":0},{"$f":"DH_PSF!D104","v":0},null,{"$f":"DH_PSF!F104","v":0},null,null,"2031-08-16T14:17:27.920","2021-08-17T14:17:27.920","0","0",{"$f":"DH_PSF!E104","v":0},0]
["00",{"$f":"DH_PSF!B105","v":0},{"$f":"DH_PSF!D105","v":0},null,{"$f":"DH_PSF!F105","v":0},null,null,"2031-08-16T14:17:27.920","2021-08-17T14:17:27.920","0","0",{"$f":"DH_PSF!E105","v":0},0]
["00",{"$f":"DH_PSF!B106","v":0},{"$f":"DH_PSF!D106","v":0},null,{"$f":"DH_PSF!F106","v":0},null,null,"2031-08-16T14:17:27.920","2021-08-17T14:17:27.920","0","0",{"$f":"DH_PSF!E106","v":0},0]
["00",{"$f":"DH_PSF!B107","v":0},{"$f":"DH_PSF!D107","v":0},null,{"$f":"DH_PSF!F107","v":0},null,null,"2031-08-16T14:17:27.920","2021-08-17T14:17:27.920","0","0",{"$f":"DH_PSF!E107","v":0},0]
["00",{"$f":"DH_PSF!B108","v":0},{"$f":"DH_PSF!D108","v":0},null,{"$f":"DH_PSF!F108","v":0},null,null,"2031-08-16T14:17:27.920","2021-08-17T14:17:27.920","0","0",{"$f":"DH_PSF!E108","v":0},0]
["00",{"$f":"DH_PSF!B109","v":0},{"$f":"DH_PSF!D109","v":0},null,{"$f":"DH_PSF!F109","v":0},null,null,"2031-08-16T14:17:27.920","2021-08-17T14:17:27.920","0","0",{"$f":"DH_PSF!E109","v":0},0]
["00",{"$f":"DH_PSF!B110","v":0},{"$f":"DH_PSF!D110","v":0},null,{"$f":"DH_PSF!F110","v":0},null,null,"2031-08-16T14:17:27.920","2021-08-17T14:17:27.920","0","0",{"$f":"DH_PSF!E110","v":0},0]
["00",{"$f":"DH_PSF!B111","v":0},{"$f":"DH_PSF!D111","v":0},null,{"$f":"DH_PSF!F111","v":0},null,null,"2031-08-16T14:17:27.920","2021-08-17T14:17:27.920","0","0",{"$f":"DH_PSF!E111","v":0},0]
["00",{"$f":"DH_PSF!B112","v":0},{"$f":"DH_PSF!D112","v":0},null,{"$f":"DH_PSF!F112","v":0},null,null,"2031-08-16T14:17:27.920","2021-08-17T14:17:27.920","0","0",{"$f":"DH_PSF!E112","v":0},0]

{"sheet":"DH_PROVUPLOAD","index":7,"n_rows":100,"n_cols":7,"rows_kept":100,"cut":false,"hidden":true,"merged":[]}
["NPI","LAST NAME","Last Name2","FIRST NAME","Middle Name","Licenseid","Externalid"]
[{"$f":"DH_PSF!H11","v":0},{"$f":"DH_PSF!D11","v":0},null,{"$f":"DH_PSF!B11","v":0},{"$f":"DH_PSF!C11","v":0}]
[{"$f":"DH_PSF!H12","v":0},{"$f":"DH_PSF!D12","v":0},null,{"$f":"DH_PSF!B12","v":0},{"$f":"DH_PSF!C12","v":0}]
[{"$f":"DH_PSF!H13","v":0},{"$f":"DH_PSF!D13","v":0},null,{"$f":"DH_PSF!B13","v":0},{"$f":"DH_PSF!C13","v":0}]
[{"$f":"DH_PSF!H14","v":0},{"$f":"DH_PSF!D14","v":0},null,{"$f":"DH_PSF!B14","v":0},{"$f":"DH_PSF!C14","v":0}]
[{"$f":"DH_PSF!H15","v":0},{"$f":"DH_PSF!D15","v":0},null,{"$f":"DH_PSF!B15","v":0},{"$f":"DH_PSF!C15","v":0}]
[{"$f":"DH_PSF!H16","v":0},{"$f":"DH_PSF!D16","v":0},null,{"$f":"DH_PSF!B16","v":0},{"$f":"DH_PSF!C16","v":0}]
[{"$f":"DH_PSF!H17","v":0},{"$f":"DH_PSF!D17","v":0},null,{"$f":"DH_PSF!B17","v":0},{"$f":"DH_PSF!C17","v":0}]
[{"$f":"DH_PSF!H18","v":0},{"$f":"DH_PSF!D18","v":0},null,{"$f":"DH_PSF!B18","v":0},{"$f":"DH_PSF!C18","v":0}]
[{"$f":"DH_PSF!H19","v":0},{"$f":"DH_PSF!D19","v":0},null,{"$f":"DH_PSF!B19","v":0},{"$f":"DH_PSF!C19","v":0}]
[{"$f":"DH_PSF!H20","v":0},{"$f":"DH_PSF!D20","v":0},null,{"$f":"DH_PSF!B20","v":0},{"$f":"DH_PSF!C20","v":0}]
[{"$f":"DH_PSF!H21","v":0},{"$f":"DH_PSF!D21","v":0},null,{"$f":"DH_PSF!B21","v":0},{"$f":"DH_PSF!C21","v":0}]
[{"$f":"DH_PSF!H22","v":0},{"$f":"DH_PSF!D22","v":0},null,{"$f":"DH_PSF!B22","v":0},{"$f":"DH_PSF!C22","v":0}]
[{"$f":"DH_PSF!H23","v":0},{"$f":"DH_PSF!D23","v":0},null,{"$f":"DH_PSF!B23","v":0},{"$f":"DH_PSF!C23","v":0}]
[{"$f":"DH_PSF!H24","v":0},{"$f":"DH_PSF!D24","v":0},null,{"$f":"DH_PSF!B24","v":0},{"$f":"DH_PSF!C24","v":0}]
[{"$f":"DH_PSF!H25","v":0},{"$f":"DH_PSF!D25","v":0},null,{"$f":"DH_PSF!B25","v":0},{"$f":"DH_PSF!C25","v":0}]
[{"$f":"DH_PSF!H26","v":0},{"$f":"DH_PSF!D26","v":0},null,{"$f":"DH_PSF!B26","v":0},{"$f":"DH_PSF!C26","v":0}]
[{"$f":"DH_PSF!H27","v":0},{"$f":"DH_PSF!D27","v":0},null,{"$f":"DH_PSF!B27","v":0},{"$f":"DH_PSF!C27","v":0}]
[{"$f":"DH_PSF!H28","v":0},{"$f":"DH_PSF!D28","v":0},null,{"$f":"DH_PSF!B28","v":0},{"$f":"DH_PSF!C28","v":0}]
[{"$f":"DH_PSF!H29","v":0},{"$f":"DH_PSF!D29","v":0},null,{"$f":"DH_PSF!B29","v":0},{"$f":"DH_PSF!C29","v":0}]
[{"$f":"DH_PSF!H30","v":0},{"$f":"DH_PSF!D30","v":0},null,{"$f":"DH_PSF!B30","v":0},{"$f":"DH_PSF!C30","v":0}]
[{"$f":"DH_PSF!H31","v":0},{"$f":"DH_PSF!D31","v":0},null,{"$f":"DH_PSF!B31","v":0},{"$f":"DH_PSF!C31","v":0}]
[{"$f":"DH_PSF!H32","v":0},{"$f":"DH_PSF!D32","v":0},null,{"$f":"DH_PSF!B32","v":0},{"$f":"DH_PSF!C32","v":0}]
[{"$f":"DH_PSF!H33","v":0},{"$f":"DH_PSF!D33","v":0},null,{"$f":"DH_PSF!B33","v":0},{"$f":"DH_PSF!C33","v":0}]
[{"$f":"DH_PSF!H34","v":0},{"$f":"DH_PSF!D34","v":0},null,{"$f":"DH_PSF!B34","v":0},{"$f":"DH_PSF!C34","v":0}]
[{"$f":"DH_PSF!H35","v":0},{"$f":"DH_PSF!D35","v":0},null,{"$f":"DH_PSF!B35","v":0},{"$f":"DH_PSF!C35","v":0}]
[{"$f":"DH_PSF!H36","v":0},{"$f":"DH_PSF!D36","v":0},null,{"$f":"DH_PSF!B36","v":0},{"$f":"DH_PSF!C36","v":0}]
[{"$f":"DH_PSF!H37","v":0},{"$f":"DH_PSF!D37","v":0},null,{"$f":"DH_PSF!B37","v":0},{"$f":"DH_PSF!C37","v":0}]
[{"$f":"DH_PSF!H38","v":0},{"$f":"DH_PSF!D38","v":0},null,{"$f":"DH_PSF!B38","v":0},{"$f":"DH_PSF!C38","v":0}]
[{"$f":"DH_PSF!H39","v":0},{"$f":"DH_PSF!D39","v":0},null,{"$f":"DH_PSF!B39","v":0},{"$f":"DH_PSF!C39","v":0}]
[{"$f":"DH_PSF!H40","v":0},{"$f":"DH_PSF!D40","v":0},null,{"$f":"DH_PSF!B40","v":0},{"$f":"DH_PSF!C40","v":0}]
[{"$f":"DH_PSF!H41","v":0},{"$f":"DH_PSF!D41","v":0},null,{"$f":"DH_PSF!B41","v":0},{"$f":"DH_PSF!C41","v":0}]
[{"$f":"DH_PSF!H42","v":0},{"$f":"DH_PSF!D42","v":0},null,{"$f":"DH_PSF!B42","v":0},{"$f":"DH_PSF!C42","v":0}]
[{"$f":"DH_PSF!H43","v":0},{"$f":"DH_PSF!D43","v":0},null,{"$f":"DH_PSF!B43","v":0},{"$f":"DH_PSF!C43","v":0}]
[{"$f":"DH_PSF!H44","v":0},{"$f":"DH_PSF!D44","v":0},null,{"$f":"DH_PSF!B44","v":0},{"$f":"DH_PSF!C44","v":0}]
[{"$f":"DH_PSF!H45","v":0},{"$f":"DH_PSF!D45","v":0},null,{"$f":"DH_PSF!B45","v":0},{"$f":"DH_PSF!C45","v":0}]
[{"$f":"DH_PSF!H46","v":0},{"$f":"DH_PSF!D46","v":0},null,{"$f":"DH_PSF!B46","v":0},{"$f":"DH_PSF!C46","v":0}]
[{"$f":"DH_PSF!H47","v":0},{"$f":"DH_PSF!D47","v":0},null,{"$f":"DH_PSF!B47","v":0},{"$f":"DH_PSF!C47","v":0}]
[{"$f":"DH_PSF!H48","v":0},{"$f":"DH_PSF!D48","v":0},null,{"$f":"DH_PSF!B48","v":0},{"$f":"DH_PSF!C48","v":0}]
[{"$f":"DH_PSF!H49","v":0},{"$f":"DH_PSF!D49","v":0},null,{"$f":"DH_PSF!B49","v":0},{"$f":"DH_PSF!C49","v":0}]
[{"$f":"DH_PSF!H50","v":0},{"$f":"DH_PSF!D50","v":0},null,{"$f":"DH_PSF!B50","v":0},{"$f":"DH_PSF!C50","v":0}]
[{"$f":"DH_PSF!H51","v":0},{"$f":"DH_PSF!D51","v":0},null,{"$f":"DH_PSF!B51","v":0},{"$f":"DH_PSF!C51","v":0}]
[{"$f":"DH_PSF!H52","v":0},{"$f":"DH_PSF!D52","v":0},null,{"$f":"DH_PSF!B52","v":0},{"$f":"DH_PSF!C52","v":0}]
[{"$f":"DH_PSF!H53","v":0},{"$f":"DH_PSF!D53","v":0},null,{"$f":"DH_PSF!B53","v":0},{"$f":"DH_PSF!C53","v":0}]
[{"$f":"DH_PSF!H54","v":0},{"$f":"DH_PSF!D54","v":0},null,{"$f":"DH_PSF!B54","v":0},{"$f":"DH_PSF!C54","v":0}]
[{"$f":"DH_PSF!H55","v":0},{"$f":"DH_PSF!D55","v":0},null,{"$f":"DH_PSF!B55","v":0},{"$f":"DH_PSF!C55","v":0}]
[{"$f":"DH_PSF!H56","v":0},{"$f":"DH_PSF!D56","v":0},null,{"$f":"DH_PSF!B56","v":0},{"$f":"DH_PSF!C56","v":0}]
[{"$f":"DH_PSF!H57","v":0},{"$f":"DH_PSF!D57","v":0},null,{"$f":"DH_PSF!B57","v":0},{"$f":"DH_PSF!C57","v":0}]
[{"$f":"DH_PSF!H58","v":0},{"$f":"DH_PSF!D58","v":0},null,{"$f":"DH_PSF!B58","v":0},{"$f":"DH_PSF!C58","v":0}]
[{"$f":"DH_PSF!H59","v":0},{"$f":"DH_PSF!D59","v":0},null,{"$f":"DH_PSF!B59","v":0},{"$f":"DH_PSF!C59","v":0}]
[{"$f":"DH_PSF!H60","v":0},{"$f":"DH_PSF!D60","v":0},null,{"$f":"DH_PSF!B60","v":0},{"$f":"DH_PSF!C60","v":0}]
[{"$f":"DH_PSF!H61","v":0},{"$f":"DH_PSF!D61","v":0},null,{"$f":"DH_PSF!B61","v":0},{"$f":"DH_PSF!C61","v":0}]
[{"$f":"DH_PSF!H62","v":0},{"$f":"DH_PSF!D62","v":0},null,{"$f":"DH_PSF!B62","v":0},{"$f":"DH_PSF!C62","v":0}]
[{"$f":"DH_PSF!H63","v":0},{"$f":"DH_PSF!D63","v":0},null,{"$f":"DH_PSF!B63","v":0},{"$f":"DH_PSF!C63","v":0}]
[{"$f":"DH_PSF!H64","v":0},{"$f":"DH_PSF!D64","v":0},null,{"$f":"DH_PSF!B64","v":0},{"$f":"DH_PSF!C64","v":0}]
[{"$f":"DH_PSF!H65","v":0},{"$f":"DH_PSF!D65","v":0},null,{"$f":"DH_PSF!B65","v":0},{"$f":"DH_PSF!C65","v":0}]
[{"$f":"DH_PSF!H66","v":0},{"$f":"DH_PSF!D66","v":0},null,{"$f":"DH_PSF!B66","v":0},{"$f":"DH_PSF!C66","v":0}]
[{"$f":"DH_PSF!H67","v":0},{"$f":"DH_PSF!D67","v":0},null,{"$f":"DH_PSF!B67","v":0},{"$f":"DH_PSF!C67","v":0}]
[{"$f":"DH_PSF!H68","v":0},{"$f":"DH_PSF!D68","v":0},null,{"$f":"DH_PSF!B68","v":0},{"$f":"DH_PSF!C68","v":0}]
[{"$f":"DH_PSF!H69","v":0},{"$f":"DH_PSF!D69","v":0},null,{"$f":"DH_PSF!B69","v":0},{"$f":"DH_PSF!C69","v":0}]
[{"$f":"DH_PSF!H70","v":0},{"$f":"DH_PSF!D70","v":0},null,{"$f":"DH_PSF!B70","v":0},{"$f":"DH_PSF!C70","v":0}]
[{"$f":"DH_PSF!H71","v":0},{"$f":"DH_PSF!D71","v":0},null,{"$f":"DH_PSF!B71","v":0},{"$f":"DH_PSF!C71","v":0}]
[{"$f":"DH_PSF!H72","v":0},{"$f":"DH_PSF!D72","v":0},null,{"$f":"DH_PSF!B72","v":0},{"$f":"DH_PSF!C72","v":0}]
[{"$f":"DH_PSF!H73","v":0},{"$f":"DH_PSF!D73","v":0},null,{"$f":"DH_PSF!B73","v":0},{"$f":"DH_PSF!C73","v":0}]
[{"$f":"DH_PSF!H74","v":0},{"$f":"DH_PSF!D74","v":0},null,{"$f":"DH_PSF!B74","v":0},{"$f":"DH_PSF!C74","v":0}]
[{"$f":"DH_PSF!H75","v":0},{"$f":"DH_PSF!D75","v":0},null,{"$f":"DH_PSF!B75","v":0},{"$f":"DH_PSF!C75","v":0}]
[{"$f":"DH_PSF!H76","v":0},{"$f":"DH_PSF!D76","v":0},null,{"$f":"DH_PSF!B76","v":0},{"$f":"DH_PSF!C76","v":0}]
[{"$f":"DH_PSF!H77","v":0},{"$f":"DH_PSF!D77","v":0},null,{"$f":"DH_PSF!B77","v":0},{"$f":"DH_PSF!C77","v":0}]
[{"$f":"DH_PSF!H78","v":0},{"$f":"DH_PSF!D78","v":0},null,{"$f":"DH_PSF!B78","v":0},{"$f":"DH_PSF!C78","v":0}]
[{"$f":"DH_PSF!H79","v":0},{"$f":"DH_PSF!D79","v":0},null,{"$f":"DH_PSF!B79","v":0},{"$f":"DH_PSF!C79","v":0}]
[{"$f":"DH_PSF!H80","v":0},{"$f":"DH_PSF!D80","v":0},null,{"$f":"DH_PSF!B80","v":0},{"$f":"DH_PSF!C80","v":0}]
[{"$f":"DH_PSF!H81","v":0},{"$f":"DH_PSF!D81","v":0},null,{"$f":"DH_PSF!B81","v":0},{"$f":"DH_PSF!C81","v":0}]
[{"$f":"DH_PSF!H82","v":0},{"$f":"DH_PSF!D82","v":0},null,{"$f":"DH_PSF!B82","v":0},{"$f":"DH_PSF!C82","v":0}]
[{"$f":"DH_PSF!H83","v":0},{"$f":"DH_PSF!D83","v":0},null,{"$f":"DH_PSF!B83","v":0},{"$f":"DH_PSF!C83","v":0}]
[{"$f":"DH_PSF!H84","v":0},{"$f":"DH_PSF!D84","v":0},null,{"$f":"DH_PSF!B84","v":0},{"$f":"DH_PSF!C84","v":0}]
[{"$f":"DH_PSF!H85","v":0},{"$f":"DH_PSF!D85","v":0},null,{"$f":"DH_PSF!B85","v":0},{"$f":"DH_PSF!C85","v":0}]
[{"$f":"DH_PSF!H86","v":0},{"$f":"DH_PSF!D86","v":0},null,{"$f":"DH_PSF!B86","v":0},{"$f":"DH_PSF!C86","v":0}]
[{"$f":"DH_PSF!H87","v":0},{"$f":"DH_PSF!D87","v":0},null,{"$f":"DH_PSF!B87","v":0},{"$f":"DH_PSF!C87","v":0}]
[{"$f":"DH_PSF!H88","v":0},{"$f":"DH_PSF!D88","v":0},null,{"$f":"DH_PSF!B88","v":0},{"$f":"DH_PSF!C88","v":0}]
[{"$f":"DH_PSF!H89","v":0},{"$f":"DH_PSF!D89","v":0},null,{"$f":"DH_PSF!B89","v":0},{"$f":"DH_PSF!C89","v":0}]
[{"$f":"DH_PSF!H90","v":0},{"$f":"DH_PSF!D90","v":0},null,{"$f":"DH_PSF!B90","v":0},{"$f":"DH_PSF!C90","v":0}]
[{"$f":"DH_PSF!H91","v":0},{"$f":"DH_PSF!D91","v":0},null,{"$f":"DH_PSF!B91","v":0},{"$f":"DH_PSF!C91","v":0}]
[{"$f":"DH_PSF!H92","v":0},{"$f":"DH_PSF!D92","v":0},null,{"$f":"DH_PSF!B92","v":0},{"$f":"DH_PSF!C92","v":0}]
[{"$f":"DH_PSF!H93","v":0},{"$f":"DH_PSF!D93","v":0},null,{"$f":"DH_PSF!B93","v":0},{"$f":"DH_PSF!C93","v":0}]
[{"$f":"DH_PSF!H94","v":0},{"$f":"DH_PSF!D94","v":0},null,{"$f":"DH_PSF!B94","v":0},{"$f":"DH_PSF!C94","v":0}]
[{"$f":"DH_PSF!H95","v":0},{"$f":"DH_PSF!D95","v":0},null,{"$f":"DH_PSF!B95","v":0},{"$f":"DH_PSF!C95","v":0}]
[{"$f":"DH_PSF!H96","v":0},{"$f":"DH_PSF!D96","v":0},null,{"$f":"DH_PSF!B96","v":0},{"$f":"DH_PSF!C96","v":0}]
[{"$f":"DH_PSF!H97","v":0},{"$f":"DH_PSF!D97","v":0},null,{"$f":"DH_PSF!B97","v":0},{"$f":"DH_PSF!C97","v":0}]
[{"$f":"DH_PSF!H98","v":0},{"$f":"DH_PSF!D98","v":0},null,{"$f":"DH_PSF!B98","v":0},{"$f":"DH_PSF!C98","v":0}]
[{"$f":"DH_PSF!H99","v":0},{"$f":"DH_PSF!D99","v":0},null,{"$f":"DH_PSF!B99","v":0},{"$f":"DH_PSF!C99","v":0}]
[{"$f":"DH_PSF!H100","v":0},{"$f":"DH_PSF!D100","v":0},null,{"$f":"DH_PSF!B100","v":0},{"$f":"DH_PSF!C100","v":0}]
[{"$f":"DH_PSF!H101","v":0},{"$f":"DH_PSF!D101","v":0},null,{"$f":"DH_PSF!B101","v":0},{"$f":"DH_PSF!C101","v":0}]
[{"$f":"DH_PSF!H102","v":0},{"$f":"DH_PSF!D102","v":0},null,{"$f":"DH_PSF!B102","v":0},{"$f":"DH_PSF!C102","v":0}]
[{"$f":"DH_PSF!H103","v":0},{"$f":"DH_PSF!D103","v":0},null,{"$f":"DH_PSF!B103","v":0},{"$f":"DH_PSF!C103","v":0}]
[{"$f":"DH_PSF!H104","v":0},{"$f":"DH_PSF!D104","v":0},null,{"$f":"DH_PSF!B104","v":0},{"$f":"DH_PSF!C104","v":0}]
[{"$f":"DH_PSF!H105","v":0},{"$f":"DH_PSF!D105","v":0},null,{"$f":"DH_PSF!B105","v":0},{"$f":"DH_PSF!C105","v":0}]
[{"$f":"DH_PSF!H106","v":0},{"$f":"DH_PSF!D106","v":0},null,{"$f":"DH_PSF!B106","v":0},{"$f":"DH_PSF!C106","v":0}]
[{"$f":"DH_PSF!H107","v":0},{"$f":"DH_PSF!D107","v":0},null,{"$f":"DH_PSF!B107","v":0},{"$f":"DH_PSF!C107","v":0}]
[{"$f":"DH_PSF!H108","v":0},{"$f":"DH_PSF!D108","v":0},null,{"$f":"DH_PSF!B108","v":0},{"$f":"DH_PSF!C108","v":0}]
[{"$f":"DH_PSF!H109","v":0},{"$f":"DH_PSF!D109","v":0},null,{"$f":"DH_PSF!B109","v":0},{"$f":"DH_PSF!C109","v":0}]

{"sheet":"HPMG_UPLOAD","index":8,"n_rows":50,"n_cols":7,"rows_kept":50,"cut":false,"hidden":true,"merged":[]}
["NPI","LAST NAME","Last Name2","FIRST NAME","Middle Name","Licenseid","Externalid"]
[{"$f":"[1]HPMG_ADDS!A2","v":0},{"$f":"[1]HPMG_ADDS!B2","v":0},null,{"$f":"[1]HPMG_ADDS!C2","v":0},{"$f":"[1]HPMG_ADDS!D2","v":0},null,{"$f":"[1]HPMG_ADDS!A2","v":0}]
[{"$f":"[1]HPMG_ADDS!A3","v":0},{"$f":"[1]HPMG_ADDS!B3","v":0},null,{"$f":"[1]HPMG_ADDS!C3","v":0},{"$f":"[1]HPMG_ADDS!D3","v":0},null,{"$f":"[1]HPMG_ADDS!A3","v":0}]
[{"$f":"[1]HPMG_ADDS!A4","v":0},{"$f":"[1]HPMG_ADDS!B4","v":0},null,{"$f":"[1]HPMG_ADDS!C4","v":0},{"$f":"[1]HPMG_ADDS!D4","v":0},null,{"$f":"[1]HPMG_ADDS!A4","v":0}]
[{"$f":"[1]HPMG_ADDS!A5","v":0},{"$f":"[1]HPMG_ADDS!B5","v":0},null,{"$f":"[1]HPMG_ADDS!C5","v":0},{"$f":"[1]HPMG_ADDS!D5","v":0},null,{"$f":"[1]HPMG_ADDS!A5","v":0}]
[{"$f":"[1]HPMG_ADDS!A6","v":0},{"$f":"[1]HPMG_ADDS!B6","v":0},null,{"$f":"[1]HPMG_ADDS!C6","v":0},{"$f":"[1]HPMG_ADDS!D6","v":0},null,{"$f":"[1]HPMG_ADDS!A6","v":0}]
[{"$f":"[1]HPMG_ADDS!A7","v":0},{"$f":"[1]HPMG_ADDS!B7","v":0},null,{"$f":"[1]HPMG_ADDS!C7","v":0},{"$f":"[1]HPMG_ADDS!D7","v":0},null,{"$f":"[1]HPMG_ADDS!A7","v":0}]
[{"$f":"[1]HPMG_ADDS!A8","v":0},{"$f":"[1]HPMG_ADDS!B8","v":0},null,{"$f":"[1]HPMG_ADDS!C8","v":0},{"$f":"[1]HPMG_ADDS!D8","v":0},null,{"$f":"[1]HPMG_ADDS!A8","v":0}]
[{"$f":"[1]HPMG_ADDS!A9","v":0},{"$f":"[1]HPMG_ADDS!B9","v":0},null,{"$f":"[1]HPMG_ADDS!C9","v":0},{"$f":"[1]HPMG_ADDS!D9","v":0},null,{"$f":"[1]HPMG_ADDS!A9","v":0}]
[{"$f":"[1]HPMG_ADDS!A10","v":0},{"$f":"[1]HPMG_ADDS!B10","v":0},null,{"$f":"[1]HPMG_ADDS!C10","v":0},{"$f":"[1]HPMG_ADDS!D10","v":0},null,{"$f":"[1]HPMG_ADDS!A10","v":0}]
[{"$f":"[1]HPMG_ADDS!A11","v":0},{"$f":"[1]HPMG_ADDS!B11","v":0},null,{"$f":"[1]HPMG_ADDS!C11","v":0},{"$f":"[1]HPMG_ADDS!D11","v":0},null,{"$f":"[1]HPMG_ADDS!A11","v":0}]
[{"$f":"[1]HPMG_ADDS!A12","v":0},{"$f":"[1]HPMG_ADDS!B12","v":0},null,{"$f":"[1]HPMG_ADDS!C12","v":0},{"$f":"[1]HPMG_ADDS!D12","v":0},null,{"$f":"[1]HPMG_ADDS!A12","v":0}]
[{"$f":"[1]HPMG_ADDS!A13","v":0},{"$f":"[1]HPMG_ADDS!B13","v":0},null,{"$f":"[1]HPMG_ADDS!C13","v":0},{"$f":"[1]HPMG_ADDS!D13","v":0},null,{"$f":"[1]HPMG_ADDS!A13","v":0}]
[{"$f":"[1]HPMG_ADDS!A14","v":0},{"$f":"[1]HPMG_ADDS!B14","v":0},null,{"$f":"[1]HPMG_ADDS!C14","v":0},{"$f":"[1]HPMG_ADDS!D14","v":0},null,{"$f":"[1]HPMG_ADDS!A14","v":0}]
[{"$f":"[1]HPMG_ADDS!A15","v":0},{"$f":"[1]HPMG_ADDS!B15","v":0},null,{"$f":"[1]HPMG_ADDS!C15","v":0},{"$f":"[1]HPMG_ADDS!D15","v":0},null,{"$f":"[1]HPMG_ADDS!A15","v":0}]
[{"$f":"[1]HPMG_ADDS!A16","v":0},{"$f":"[1]HPMG_ADDS!B16","v":0},null,{"$f":"[1]HPMG_ADDS!C16","v":0},{"$f":"[1]HPMG_ADDS!D16","v":0},null,{"$f":"[1]HPMG_ADDS!A16","v":0}]
[{"$f":"[1]HPMG_ADDS!A17","v":0},{"$f":"[1]HPMG_ADDS!B17","v":0},null,{"$f":"[1]HPMG_ADDS!C17","v":0},{"$f":"[1]HPMG_ADDS!D17","v":0},null,{"$f":"[1]HPMG_ADDS!A17","v":0}]
[{"$f":"[1]HPMG_ADDS!A18","v":0},{"$f":"[1]HPMG_ADDS!B18","v":0},null,{"$f":"[1]HPMG_ADDS!C18","v":0},{"$f":"[1]HPMG_ADDS!D18","v":0},null,{"$f":"[1]HPMG_ADDS!A18","v":0}]
[{"$f":"[1]HPMG_ADDS!A19","v":0},{"$f":"[1]HPMG_ADDS!B19","v":0},null,{"$f":"[1]HPMG_ADDS!C19","v":0},{"$f":"[1]HPMG_ADDS!D19","v":0},null,{"$f":"[1]HPMG_ADDS!A19","v":0}]
[{"$f":"[1]HPMG_ADDS!A20","v":0},{"$f":"[1]HPMG_ADDS!B20","v":0},null,{"$f":"[1]HPMG_ADDS!C20","v":0},{"$f":"[1]HPMG_ADDS!D20","v":0},null,{"$f":"[1]HPMG_ADDS!A20","v":0}]
[{"$f":"[1]HPMG_ADDS!A21","v":0},{"$f":"[1]HPMG_ADDS!B21","v":0},null,{"$f":"[1]HPMG_ADDS!C21","v":0},{"$f":"[1]HPMG_ADDS!D21","v":0},null,{"$f":"[1]HPMG_ADDS!A21","v":0}]
[{"$f":"[1]HPMG_ADDS!A22","v":0},{"$f":"[1]HPMG_ADDS!B22","v":0},null,{"$f":"[1]HPMG_ADDS!C22","v":0},{"$f":"[1]HPMG_ADDS!D22","v":0},null,{"$f":"[1]HPMG_ADDS!A22","v":0}]
[{"$f":"[1]HPMG_ADDS!A23","v":0},{"$f":"[1]HPMG_ADDS!B23","v":0},null,{"$f":"[1]HPMG_ADDS!C23","v":0},{"$f":"[1]HPMG_ADDS!D23","v":0},null,{"$f":"[1]HPMG_ADDS!A23","v":0}]
[{"$f":"[1]HPMG_ADDS!A24","v":0},{"$f":"[1]HPMG_ADDS!B24","v":0},null,{"$f":"[1]HPMG_ADDS!C24","v":0},{"$f":"[1]HPMG_ADDS!D24","v":0},null,{"$f":"[1]HPMG_ADDS!A24","v":0}]
[{"$f":"[1]HPMG_ADDS!A25","v":0},{"$f":"[1]HPMG_ADDS!B25","v":0},null,{"$f":"[1]HPMG_ADDS!C25","v":0},{"$f":"[1]HPMG_ADDS!D25","v":0},null,{"$f":"[1]HPMG_ADDS!A25","v":0}]
[{"$f":"[1]HPMG_ADDS!A26","v":0},{"$f":"[1]HPMG_ADDS!B26","v":0},null,{"$f":"[1]HPMG_ADDS!C26","v":0},{"$f":"[1]HPMG_ADDS!D26","v":0},null,{"$f":"[1]HPMG_ADDS!A26","v":0}]
[{"$f":"[1]HPMG_ADDS!A27","v":0},{"$f":"[1]HPMG_ADDS!B27","v":0},null,{"$f":"[1]HPMG_ADDS!C27","v":0},{"$f":"[1]HPMG_ADDS!D27","v":0},null,{"$f":"[1]HPMG_ADDS!A27","v":0}]
[{"$f":"[1]HPMG_ADDS!A28","v":0},{"$f":"[1]HPMG_ADDS!B28","v":0},null,{"$f":"[1]HPMG_ADDS!C28","v":0},{"$f":"[1]HPMG_ADDS!D28","v":0},null,{"$f":"[1]HPMG_ADDS!A28","v":0}]
[{"$f":"[1]HPMG_ADDS!A29","v":0},{"$f":"[1]HPMG_ADDS!B29","v":0},null,{"$f":"[1]HPMG_ADDS!C29","v":0},{"$f":"[1]HPMG_ADDS!D29","v":0},null,{"$f":"[1]HPMG_ADDS!A29","v":0}]
[{"$f":"[1]HPMG_ADDS!A30","v":0},{"$f":"[1]HPMG_ADDS!B30","v":0},null,{"$f":"[1]HPMG_ADDS!C30","v":0},{"$f":"[1]HPMG_ADDS!D30","v":0},null,{"$f":"[1]HPMG_ADDS!A30","v":0}]
[{"$f":"[1]HPMG_ADDS!A31","v":0},{"$f":"[1]HPMG_ADDS!B31","v":0},null,{"$f":"[1]HPMG_ADDS!C31","v":0},{"$f":"[1]HPMG_ADDS!D31","v":0},null,{"$f":"[1]HPMG_ADDS!A31","v":0}]
[{"$f":"[1]HPMG_ADDS!A32","v":0},{"$f":"[1]HPMG_ADDS!B32","v":0},null,{"$f":"[1]HPMG_ADDS!C32","v":0},{"$f":"[1]HPMG_ADDS!D32","v":0},null,{"$f":"[1]HPMG_ADDS!A32","v":0}]
[{"$f":"[1]HPMG_ADDS!A33","v":0},{"$f":"[1]HPMG_ADDS!B33","v":0},null,{"$f":"[1]HPMG_ADDS!C33","v":0},{"$f":"[1]HPMG_ADDS!D33","v":0},null,{"$f":"[1]HPMG_ADDS!A33","v":0}]
[{"$f":"[1]HPMG_ADDS!A34","v":0},{"$f":"[1]HPMG_ADDS!B34","v":0},null,{"$f":"[1]HPMG_ADDS!C34","v":0},{"$f":"[1]HPMG_ADDS!D34","v":0},null,{"$f":"[1]HPMG_ADDS!A34","v":0}]
[{"$f":"[1]HPMG_ADDS!A35","v":0},{"$f":"[1]HPMG_ADDS!B35","v":0},null,{"$f":"[1]HPMG_ADDS!C35","v":0},{"$f":"[1]HPMG_ADDS!D35","v":0},null,{"$f":"[1]HPMG_ADDS!A35","v":0}]
[{"$f":"[1]HPMG_ADDS!A36","v":0},{"$f":"[1]HPMG_ADDS!B36","v":0},null,{"$f":"[1]HPMG_ADDS!C36","v":0},{"$f":"[1]HPMG_ADDS!D36","v":0},null,{"$f":"[1]HPMG_ADDS!A36","v":0}]
[{"$f":"[1]HPMG_ADDS!A37","v":0},{"$f":"[1]HPMG_ADDS!B37","v":0},null,{"$f":"[1]HPMG_ADDS!C37","v":0},{"$f":"[1]HPMG_ADDS!D37","v":0},null,{"$f":"[1]HPMG_ADDS!A37","v":0}]
[{"$f":"[1]HPMG_ADDS!A38","v":0},{"$f":"[1]HPMG_ADDS!B38","v":0},null,{"$f":"[1]HPMG_ADDS!C38","v":0},{"$f":"[1]HPMG_ADDS!D38","v":0},null,{"$f":"[1]HPMG_ADDS!A38","v":0}]
[{"$f":"[1]HPMG_ADDS!A39","v":0},{"$f":"[1]HPMG_ADDS!B39","v":0},null,{"$f":"[1]HPMG_ADDS!C39","v":0},{"$f":"[1]HPMG_ADDS!D39","v":0},null,{"$f":"[1]HPMG_ADDS!A39","v":0}]
[{"$f":"[1]HPMG_ADDS!A40","v":0},{"$f":"[1]HPMG_ADDS!B40","v":0},null,{"$f":"[1]HPMG_ADDS!C40","v":0},{"$f":"[1]HPMG_ADDS!D40","v":0},null,{"$f":"[1]HPMG_ADDS!A40","v":0}]
[{"$f":"[1]HPMG_ADDS!A41","v":0},{"$f":"[1]HPMG_ADDS!B41","v":0},null,{"$f":"[1]HPMG_ADDS!C41","v":0},{"$f":"[1]HPMG_ADDS!D41","v":0},null,{"$f":"[1]HPMG_ADDS!A41","v":0}]
[{"$f":"[1]HPMG_ADDS!A42","v":0},{"$f":"[1]HPMG_ADDS!B42","v":0},null,{"$f":"[1]HPMG_ADDS!C42","v":0},{"$f":"[1]HPMG_ADDS!D42","v":0},null,{"$f":"[1]HPMG_ADDS!A42","v":0}]
[{"$f":"[1]HPMG_ADDS!A43","v":0},{"$f":"[1]HPMG_ADDS!B43","v":0},null,{"$f":"[1]HPMG_ADDS!C43","v":0},{"$f":"[1]HPMG_ADDS!D43","v":0},null,{"$f":"[1]HPMG_ADDS!A43","v":0}]
[{"$f":"[1]HPMG_ADDS!A44","v":0},{"$f":"[1]HPMG_ADDS!B44","v":0},null,{"$f":"[1]HPMG_ADDS!C44","v":0},{"$f":"[1]HPMG_ADDS!D44","v":0},null,{"$f":"[1]HPMG_ADDS!A44","v":0}]
[{"$f":"[1]HPMG_ADDS!A45","v":0},{"$f":"[1]HPMG_ADDS!B45","v":0},null,{"$f":"[1]HPMG_ADDS!C45","v":0},{"$f":"[1]HPMG_ADDS!D45","v":0},null,{"$f":"[1]HPMG_ADDS!A45","v":0}]
[{"$f":"[1]HPMG_ADDS!A46","v":0},{"$f":"[1]HPMG_ADDS!B46","v":0},null,{"$f":"[1]HPMG_ADDS!C46","v":0},{"$f":"[1]HPMG_ADDS!D46","v":0},null,{"$f":"[1]HPMG_ADDS!A46","v":0}]
[{"$f":"[1]HPMG_ADDS!A47","v":0},{"$f":"[1]HPMG_ADDS!B47","v":0},null,{"$f":"[1]HPMG_ADDS!C47","v":0},{"$f":"[1]HPMG_ADDS!D47","v":0},null,{"$f":"[1]HPMG_ADDS!A47","v":0}]
[{"$f":"[1]HPMG_ADDS!A48","v":0},{"$f":"[1]HPMG_ADDS!B48","v":0},null,{"$f":"[1]HPMG_ADDS!C48","v":0},{"$f":"[1]HPMG_ADDS!D48","v":0},null,{"$f":"[1]HPMG_ADDS!A48","v":0}]
[{"$f":"[1]HPMG_ADDS!A49","v":0},{"$f":"[1]HPMG_ADDS!B49","v":0},null,{"$f":"[1]HPMG_ADDS!C49","v":0},{"$f":"[1]HPMG_ADDS!D49","v":0},null,{"$f":"[1]HPMG_ADDS!A49","v":0}]
[{"$f":"[1]HPMG_ADDS!A50","v":0},{"$f":"[1]HPMG_ADDS!B50","v":0},null,{"$f":"[1]HPMG_ADDS!C50","v":0},{"$f":"[1]HPMG_ADDS!D50","v":0},null,{"$f":"[1]HPMG_ADDS!A50","v":0}]

{"sheet":"PracticeUploadFormat","index":9,"n_rows":2,"n_cols":11,"rows_kept":2,"cut":false,"hidden":true,"merged":[]}
[null,"Practice Name","Practice Code","Address","Address2","City","State","ZIP","Practice Admin","Admin Phone","Admin Email"]
["New Practice",{"$f":"'Add Providers'!B5","v":0},null,{"$f":"'Add Providers'!C5","v":0},{"$f":"'Add Providers'!D5","v":0},{"$f":"'Add Providers'!E5","v":0},{"$f":"'Add Providers'!F5","v":0},{"$f":"'Add Providers'!G5","v":0},{"$f":"'Add Providers'!H5","v":0},{"$f":"'Add Providers'!I5","v":0},{"$f":"'Add Providers'!J5","v":0}]

{"sheet":"DataTables","index":10,"n_rows":52,"n_cols":6,"rows_kept":52,"cut":false,"hidden":true,"merged":[]}
["Credentials","STATE","Provider Roles","Provider Codes","Staff Roles","Staff Codes"]
["MD","AL","Physician","PHYSICIAN","Practice User","PRAC_USER"]
["DO","AK","Mid-Level Provider","MID_LEVEL_PROV","Practice User Global Search","PRAC_USER_G"]
["DP","AZ",null,null,"Practice Administrator","PRACTICE_ADMIN"]
["PA-C","AR"]
["PNP","CA"]
["NP","CO"]
["(other)","CT"]
[null,"DE"]
[null,"DC"]
[null,"FL"]
[null,"GA"]
[null,"HI"]
[null,"ID"]
[null,"IL"]
[null,"IN"]
[null,"IA"]
[null,"KS"]
[null,"KY"]
[null,"LA"]
[null,"ME"]
[null,"MD"]
[null,"MA"]
[null,"MI"]
[null,"MN"]
[null,"MS"]
[null,"MO"]
[null,"MT"]
[null,"NE"]
[null,"NV"]
[null,"NH"]
[null,"NJ"]
[null,"NM"]
[null,"NY"]
[null,"NC"]
[null,"ND"]
[null,"OH"]
[null,"OK"]
[null,"OR"]
[null,"PA"]
[null,"RI"]
[null,"SC"]
[null,"SD"]
[null,"TN"]
[null,"TX"]
[null,"UT"]
[null,"VT"]
[null,"VA"]
[null,"WA"]
[null,"WV"]
[null,"WI"]
[null,"WY"]

{"sheet":"PracticeTables","index":11,"n_rows":3,"n_cols":6,"rows_kept":3,"cut":false,"hidden":true,"merged":[]}
[null,"Not Setup"]
[null,"Practice_Name","practice_id",null,null,"Not setup for generic form"]
[null,"Select Existing Practice-Not Set Up","PRACTICE_EA"]

{"sheet":"ClientSpecific","index":12,"n_rows":7,"n_cols":2,"rows_kept":7,"cut":false,"hidden":true,"merged":[]}
["Brand","Cerner Provider Portal -  Practice and User Setup Request Form"]
["Username format","first initial, last name   gwashington     then gwashington1  etc"]
["Submit to:","john.gorretta@cerner.com"]
["Account expiration","365 days"]
[]
[]
["Practice templates"]